BEGIN:VCALENDAR
VERSION:2.0
PRODID:-//wp-events-plugin.com//7.2.3.1//EN
TZID:Europe/Madrid
X-WR-TIMEZONE:Europe/Madrid
BEGIN:VEVENT
UID:520@aragonsolidario.org
DTSTART;TZID=Europe/Madrid:20251120T180000
DTEND;TZID=Europe/Madrid:20251120T180000
DTSTAMP:20251103T113128Z
URL:https://aragonsolidario.org/eventos/una-llamada-a-la-humanidad-25
SUMMARY:Conferencia Una llamada a la humanidad
DESCRIPTION:Conferencia organizada por UNRWA Aragón en colaboración con l
 a Cátedra de Cooperación para el Desarrollo de la Universidad de Zaragoz
 a.\nSerá un espacio de diálogo y reflexión con Raquel Martí\, Director
 a Ejecutiva de UNRWA España\, y Teresa Aranguren\, periodista y escritora
  especializada en Oriente Medio\, sobre los desafíos humanitarios y las v
 ulneraciones del derecho a la salud que enfrenta la población refugiada d
 e Palestina en Gaza y Cisjordania.\nLa conferencia forma parte del proyect
 o “Protección del derecho a la salud de la población refugiada de Pale
 stina”\, financiado por el Ayuntamiento de Zaragoza\, que refuerza los l
 azos de cooperación con la ciudad hermanada de Belén.\n\nEntrada libre h
 asta completar aforo\nInscripciones en: https://buytickets.at/unrwaeduca/1
 927944 \n\n
ATTACH;FMTTYPE=image/jpeg:https://aragonsolidario.org/wp-content/uploads/2
 025/11/Cartel-UNRWA-Conferencia-Raquel-Teresa.webp
CATEGORIES:ONGD FAS
LOCATION:Sala Pilar Sinués - Paraninfo Universidad de Zaragoza\, Pl. de Ba
 silio Paraíso\, 4\, Zaragoza\, 50004\, España
GEO:41.647195;-0.886521
X-APPLE-STRUCTURED-LOCATION;VALUE=URI;X-ADDRESS=Pl. de Basilio Paraíso\, 4
 \, Zaragoza\, 50004\, España;X-APPLE-RADIUS=100;X-TITLE=Sala Pilar Sinué
 s - Paraninfo Universidad de Zaragoza:geo:41.647195,-0.886521
END:VEVENT
BEGIN:VTIMEZONE
TZID:Europe/Madrid
X-LIC-LOCATION:Europe/Madrid
BEGIN:STANDARD
DTSTART:20251026T020000
TZOFFSETFROM:+0200
TZOFFSETTO:+0100
TZNAME:CET
END:STANDARD
END:VTIMEZONE
END:VCALENDAR