BEGIN:VCALENDAR
VERSION:2.0
PRODID:-//wp-events-plugin.com//7.2.3.1//EN
TZID:Europe/Madrid
X-WR-TIMEZONE:Europe/Madrid
BEGIN:VEVENT
UID:544@aragonsolidario.org
DTSTART;TZID=Europe/Madrid:20251206T110000
DTEND;TZID=Europe/Madrid:20260105T210000
DTSTAMP:20251201T100942Z
URL:https://aragonsolidario.org/eventos/tienda-solidaria-ayz
SUMMARY:Tienda solidaria de Zaragoza
DESCRIPTION:Tienda Solidaria de Navidad – Ayuda en Acción (Zaragoza)Del 
 6 de diciembre al 5 de enero\, en el local del Pasaje Palafox (P.º Indepe
 ndencia 12\, bajos de los Cines Palafox)\, abre su 14ª edición de la Tie
 nda Solidaria. 📍 Allí puedes encontrar artesanía\, ropa\, adornos\, j
 uguetes\, productos ecológicos y regalos navideños.\n\nFechas: del 6 al
  30 de diciembre y del 2 al 5 de eneroHorario: de 11h a 14h y de 17h a 2
 1hLugar: Pasaje Palafox – Paseo Independencia\, 12 (local bajos Cines P
 alafox)
ATTACH;FMTTYPE=image/jpeg:https://aragonsolidario.org/wp-content/uploads/2
 025/12/Tienda-Solidaria-Navidad.webp
CATEGORIES:ONGD FAS
LOCATION:Pasaje Palafox\, P.º de la Independencia\, 12\, Zaragoza\, 50004 
 \, España
GEO:41.651049;-0.882692
X-APPLE-STRUCTURED-LOCATION;VALUE=URI;X-ADDRESS=P.º de la Independencia\, 
 12\, Zaragoza\, 50004 \, España;X-APPLE-RADIUS=100;X-TITLE=Pasaje Palafox
 :geo:41.651049,-0.882692
END:VEVENT
BEGIN:VTIMEZONE
TZID:Europe/Madrid
X-LIC-LOCATION:Europe/Madrid
BEGIN:STANDARD
DTSTART:20251026T020000
TZOFFSETFROM:+0200
TZOFFSETTO:+0100
TZNAME:CET
END:STANDARD
END:VTIMEZONE
END:VCALENDAR