BEGIN:VCALENDAR
VERSION:2.0
PRODID:-//wp-events-plugin.com//7.2.3.1//EN
TZID:Europe/Madrid
X-WR-TIMEZONE:Europe/Madrid
BEGIN:VEVENT
UID:587@aragonsolidario.org
DTSTART;TZID=Europe/Madrid:20260326T173000
DTEND;TZID=Europe/Madrid:20260326T203000
DTSTAMP:20260320T110853Z
URL:https://aragonsolidario.org/eventos/taller-participativo-desigualdad-2
 6
SUMMARY:Taller participativo “Y en tu barrio… ¿Cómo se vive la desigu
 aldad?” de La Bezindalla y Oxfam Intermón (Zaragoza)
DESCRIPTION:Hay situaciones de desigualdad que se repiten porque no depende
 n de las personas de manera individual\, sino que vienen derivadas de caus
 as más grandes que nos afectan como barrio y como distrito. Se trata de e
 ntender qué cosas del entorno\, del sistema o de las decisiones colectiva
 s y políticas influyen en nuestras vidas.\nInscripciones AQUÍ\n
ATTACH;FMTTYPE=image/jpeg:https://aragonsolidario.org/wp-content/uploads/2
 026/03/Cartel-Taller-Oxfam-A-4.webp
CATEGORIES:ONGD FAS
LOCATION:Centro Cívico Manuel Vázquez Guardiola\, C. de Antonio de Leyva\
 , 87\, \, Zaragoza\, 50011 \, España
GEO:41.651291;-0.92959
X-APPLE-STRUCTURED-LOCATION;VALUE=URI;X-ADDRESS=C. de Antonio de Leyva\, 87
 \, \, Zaragoza\, 50011 \, España;X-APPLE-RADIUS=100;X-TITLE=Centro Cívic
 o Manuel Vázquez Guardiola:geo:41.651291,-0.92959
END:VEVENT
BEGIN:VTIMEZONE
TZID:Europe/Madrid
X-LIC-LOCATION:Europe/Madrid
BEGIN:STANDARD
DTSTART:20251026T020000
TZOFFSETFROM:+0200
TZOFFSETTO:+0100
TZNAME:CET
END:STANDARD
END:VTIMEZONE
END:VCALENDAR