BEGIN:VCALENDAR
VERSION:2.0
PRODID:-//wp-events-plugin.com//7.2.3.1//EN
TZID:Europe/Madrid
X-WR-TIMEZONE:Europe/Madrid
BEGIN:VEVENT
UID:558@aragonsolidario.org
DTSTART;TZID=Europe/Madrid:20260113T103000
DTEND;TZID=Europe/Madrid:20260113T133000
DTSTAMP:20260107T124150Z
URL:https://aragonsolidario.org/eventos/taller-inter-etnico-racial
SUMMARY:TALLER Cómo introducir la interseccionalidad étnico-racial en pro
 yectos sociales
DESCRIPTION:REAS a través del proyecto Youth Care for Change organiza el 1
 3 de enero un taller gratuito titulado “Cómo introducir la interseccion
 alidad étnico-racial en proyectos sociales”\, que se celebrará de 10:3
 0 a 13:30 en el Centro Joaquín Roncal. La sesión\, orientada a mejorar l
 a formulación y ejecución de proyectos sociales\, será impartida por Xi
 mena Zambrana Vega\, profesional con más de 15 años de experiencia en co
 operación internacional\, derechos humanos y enfoques feministas e inters
 eccionales. El taller cuenta con plazas limitadas\, que se asignarán por 
 orden de inscripción hasta el 11 de enero\, con confirmación posterior p
 or correo electrónico.\nINSCRIPCIONES AQUÍ.
ATTACH;FMTTYPE=image/jpeg:https://aragonsolidario.org/wp-content/uploads/2
 026/01/interseccionalidad-etnicoracial.webp
CATEGORIES:Otras entidades
LOCATION:Centro Joaquín Roncal\, C. de San Braulio\, 5\, Zaragoza\, 50003\
 , España
GEO:41.654686;-0.879386
X-APPLE-STRUCTURED-LOCATION;VALUE=URI;X-ADDRESS=C. de San Braulio\, 5\, Zar
 agoza\, 50003\, España;X-APPLE-RADIUS=100;X-TITLE=Centro Joaquín Roncal:
 geo:41.654686,-0.879386
END:VEVENT
BEGIN:VTIMEZONE
TZID:Europe/Madrid
X-LIC-LOCATION:Europe/Madrid
BEGIN:STANDARD
DTSTART:20251026T020000
TZOFFSETFROM:+0200
TZOFFSETTO:+0100
TZNAME:CET
END:STANDARD
END:VTIMEZONE
END:VCALENDAR