BEGIN:VCALENDAR
VERSION:2.0
PRODID:-//wp-events-plugin.com//7.2.3.1//EN
TZID:Europe/Madrid
X-WR-TIMEZONE:Europe/Madrid
BEGIN:VEVENT
UID:522@aragonsolidario.org
DTSTART;TZID=Europe/Madrid:20251127T100000
DTEND;TZID=Europe/Madrid:20251127T130000
DTSTAMP:20251103T115129Z
URL:https://aragonsolidario.org/eventos/taller-de-reparacion-25
SUMMARY:Taller de reparación
DESCRIPTION:Según el Monitoreo global de residuos eléctricos y electróni
 cos del (UNITAR)\, para el año 2022 se generaron 62 millones de toneladas
  de residuos electrónicos y eléctricos (e-waste)\, reciclando de manera 
 adecuada solamente el 22\,3% de estos.\nPor lo que es necesario adoptar me
 didas concretas sobre la obsolescencia programada\, la producción de apar
 atos eléctricos y electrónicos éticos\, duraderos y modulares\, lo que 
 el derecho a reparar\, el cuál fundamental para la alargar la vida útil 
 de los dispositivos. Ya que muchas veces los fallos en los electrodomésti
 cos se pueden solucionar con pequeñas reparaciones o un mantenimiento ade
 cuado.\nDesde Ingeniería Sin Fronteras y Amigas por la Tierra\, te animam
 os a que te acerques con tu electrodoméstico pequeño y lo repares\, o si
  quieres probar el entorno de Linux trae tu ordenador y te instalas un sis
 tema operativo de software Libre.\nHall del Edificio Bentancourt (EINA) C.
  María de Luna\, 5\n\nEnlace de preinscripción: https://usem.liberaforms
 .org/adt-repair\nMás información en:  https://aragon.isf.es/\n\n
ATTACH;FMTTYPE=image/jpeg:https://aragonsolidario.org/wp-content/uploads/2
 025/11/taller-reparacion-1-scaled.webp
CATEGORIES:ONGD FAS
LOCATION:Hall del Edificio Bentancourt (EINA)\, C/ María de Luna\, 5 \, Z
 aragoza\, España
GEO:41.683591;-0.88504
X-APPLE-STRUCTURED-LOCATION;VALUE=URI;X-ADDRESS=C/ María de Luna\, 5 \, Z
 aragoza\, España;X-APPLE-RADIUS=100;X-TITLE=Hall del Edificio Bentancourt
  (EINA):geo:41.683591,-0.88504
END:VEVENT
BEGIN:VTIMEZONE
TZID:Europe/Madrid
X-LIC-LOCATION:Europe/Madrid
BEGIN:STANDARD
DTSTART:20251026T020000
TZOFFSETFROM:+0200
TZOFFSETTO:+0100
TZNAME:CET
END:STANDARD
END:VTIMEZONE
END:VCALENDAR