BEGIN:VCALENDAR
VERSION:2.0
PRODID:-//wp-events-plugin.com//7.2.3.1//EN
TZID:Europe/Madrid
X-WR-TIMEZONE:Europe/Madrid
BEGIN:VEVENT
UID:555@aragonsolidario.org
DTSTART;TZID=Europe/Madrid:20251216T180000
DTEND;TZID=Europe/Madrid:20251216T200000
DTSTAMP:20251215T111055Z
URL:https://aragonsolidario.org/eventos/taller-de-encerado-25
SUMMARY:Taller de Encerado de telas con cera de abeja para la conservación
  de alimentos
DESCRIPTION:\n\n\n\n\n\n\nEl Taller de Encerado de telas con cera de abeja 
 para la conservación de alimentos se celebrará el 16 de diciembre\, de 1
 8:00 a 20:00 horas\, en el Centro Cívico Cultural de Ejea de los Caballer
 os. La actividad\, organizada por CCONG Ayuda al Desarrollo y OZONA\, prop
 one una alternativa sostenible a los envoltorios de un solo uso\, fomentan
 do el consumo responsable y la reutilización de materiales. El taller es 
 gratuito\, con aforo limitado\, e invita a las personas participantes a ll
 evar un trozo de tela de algodón para darle una segunda vida a través de
  esta práctica respetuosa con el medio ambiente.\n\n\n\n\n\n\n\n\n\n\n\n\
 n
ATTACH;FMTTYPE=image/jpeg:https://aragonsolidario.org/wp-content/uploads/2
 025/12/1000429354.webp
CATEGORIES:ONGD FAS
LOCATION:Centro Cívico Cultural Ejea de los Caballeros\, Paseo del Muro\, 
 22\, 3°\, Ejea de los Caballeros\, Zaragoza\, 50600\, España
GEO:42.12609;-1.14034
X-APPLE-STRUCTURED-LOCATION;VALUE=URI;X-ADDRESS=Paseo del Muro\, 22\, 3°\,
  Ejea de los Caballeros\, Zaragoza\, 50600\, España;X-APPLE-RADIUS=100;X-
 TITLE=Centro Cívico Cultural Ejea de los Caballeros:geo:42.12609,-1.14034
END:VEVENT
BEGIN:VTIMEZONE
TZID:Europe/Madrid
X-LIC-LOCATION:Europe/Madrid
BEGIN:STANDARD
DTSTART:20251026T020000
TZOFFSETFROM:+0200
TZOFFSETTO:+0100
TZNAME:CET
END:STANDARD
END:VTIMEZONE
END:VCALENDAR