BEGIN:VCALENDAR
VERSION:2.0
PRODID:-//wp-events-plugin.com//7.2.3.1//EN
TZID:Europe/Madrid
X-WR-TIMEZONE:Europe/Madrid
BEGIN:VEVENT
UID:526@aragonsolidario.org
DTSTART;TZID=Europe/Madrid:20251119T090000
DTEND;TZID=Europe/Madrid:20251119T173000
DTSTAMP:20251103T125423Z
URL:https://aragonsolidario.org/eventos/strengthening-european-local-and-r
 egional-civil-society-organizations-csos-networking-on-global-citizenship-
 education-gce
SUMMARY:Strengthening European local and regional Civil Society Organizatio
 ns (CSOs) networking on Global Citizenship Education (GCE)
DESCRIPTION:Evento internacional que se desarrollará en ciudad de Zaragoza
  organizado por la Diputación de Zaragoza junto con la Federación Aragon
 esa de Solidaridad y Neo Sapiens dentro del proyecto europeo GEAR UP!\, en
  el que participan entidades sociales y autoridades públicas de 10 paíse
 s europeos.\n\nOfrece un espacio de diálogo y trabajo en red en torno a l
 a Educación para la Ciudadanía Global\, con foco en las organizaciones d
 e la sociedad civil.\n\nMás información:\n\nhttps://unaqui.aragonsolidar
 io.org/networking-event-dpz/
ATTACH;FMTTYPE=image/jpeg:https://aragonsolidario.org/wp-content/uploads/2
 025/11/Cartel-encuentro-con-logos.webp
CATEGORIES:FAS
LOCATION:Centro Joaquín Roncal\, C. de San Braulio\, 5\, Zaragoza\, 50003\
 , España
GEO:41.654686;-0.879386
X-APPLE-STRUCTURED-LOCATION;VALUE=URI;X-ADDRESS=C. de San Braulio\, 5\, Zar
 agoza\, 50003\, España;X-APPLE-RADIUS=100;X-TITLE=Centro Joaquín Roncal:
 geo:41.654686,-0.879386
END:VEVENT
BEGIN:VTIMEZONE
TZID:Europe/Madrid
X-LIC-LOCATION:Europe/Madrid
BEGIN:STANDARD
DTSTART:20251026T020000
TZOFFSETFROM:+0200
TZOFFSETTO:+0100
TZNAME:CET
END:STANDARD
END:VTIMEZONE
END:VCALENDAR