BEGIN:VCALENDAR
VERSION:2.0
PRODID:-//wp-events-plugin.com//7.2.3.1//EN
TZID:Europe/Madrid
X-WR-TIMEZONE:Europe/Madrid
BEGIN:VEVENT
UID:112@aragonsolidario.org
DTSTART;TZID=Europe/Madrid:20230601T183000
DTEND;TZID=Europe/Madrid:20230601T200000
DTSTAMP:20230522T123042Z
URL:https://aragonsolidario.org/eventos/stories-for-india
SUMMARY:Stories for India
DESCRIPTION:La Universidad de Zaragoza y la Fundación Isabel Martín colab
 oran de nuevo en el proyecto “Stories for India” para recaudar fondos 
 destinados a la guardería bilingüe en inglés de Tanakla (India). La ONG
  cofinancia este centro educativo desde 2017 y\, desde el curso 2018-2019\
 , cuenta con el apoyo del alumnado del Grado de Maestro en Educación Prim
 aria e Infantil de dicha universidad. El proyecto consiste en la creación
  de cuentos como materiales educativos de apoyo en la enseñanza de inglé
 s y valores para las maestras de la guardería. Pero no se queda aquí ya 
 que con la venta de estos cuentos también se colabora en la financiación
  del centro.\n\nEl próximo 1 de junio a las 18:30 en el salón de actos d
 e la Facultad de Educación\, tendrá lugar la presentación de la IV cole
 cción de cuentos que se podrán comprar de forma anticipada después del 
 evento así como\, posteriormente\, en los canales de venta de la Fundaci
 ón Isabel Martín: Tienda de Comercio Justo (C/ Mayor 6\, Zaragoza)\, tie
 nda online https://fundacionisabelmartin.es/tienda/ y en sus tiendas de Fa
 cebook e Instagram.\n\nPara más información:\n\nhttps://youtu.be/jo1mhDp
 Dc3Y\n\nhttps://fundacionisabelmartin.es/stories-for-india-una-ilusion-hec
 ha-realidad/\n\n&nbsp\;
ATTACH;FMTTYPE=image/jpeg:https://aragonsolidario.org/wp-content/uploads/2
 023/05/CARTEL-EVENTO-STORIES-FOR-INDIA-IV-DEF.webp
CATEGORIES:ONGD FAS
LOCATION:Facultad de Educación de la Universidad de Zaragoza\, C. de Pedro
  Cerbuna\, 12\, Zaragoza\, 50009 \, España
GEO:41.639871;-0.89825
X-APPLE-STRUCTURED-LOCATION;VALUE=URI;X-ADDRESS=C. de Pedro Cerbuna\, 12\, 
 Zaragoza\, 50009 \, España;X-APPLE-RADIUS=100;X-TITLE=Facultad de Educaci
 ón de la Universidad de Zaragoza:geo:41.639871,-0.89825
END:VEVENT
BEGIN:VTIMEZONE
TZID:Europe/Madrid
X-LIC-LOCATION:Europe/Madrid
BEGIN:DAYLIGHT
DTSTART:20230326T030000
TZOFFSETFROM:+0100
TZOFFSETTO:+0200
TZNAME:CEST
END:DAYLIGHT
END:VTIMEZONE
END:VCALENDAR