BEGIN:VCALENDAR
VERSION:2.0
PRODID:-//wp-events-plugin.com//7.2.3.1//EN
TZID:Europe/Madrid
X-WR-TIMEZONE:Europe/Madrid
BEGIN:VEVENT
UID:242@aragonsolidario.org
DTSTART;TZID=Europe/Madrid:20240317T120000
DTEND;TZID=Europe/Madrid:20240317T200000
DTSTAMP:20240130T105232Z
URL:https://aragonsolidario.org/eventos/solidarizar-2024
SUMMARY:Solidarizar 2024
DESCRIPTION:El domingo 17 de marzo de 12:00 a 20:00 h. se celebrará SOLID
 ARIZAR 2024 en la Sala Multiusos del Auditorio de Zaragoza\, un mercadil
 lo de segunda mano + feria de solidaridad organizado por  Zaragoza Joven
  en colaboración con la Federación Aragonesa de Solidaridad. La entrada 
 y las actividades son gratuitas.\n\n&nbsp\;\n\nEste año se celebra con el
  lema «Juventud por la salud y el bienestar» en el que se quiere refleja
 r el compromiso de la juventud zaragozana por una ciudad más sana\, salud
 able y en la que se trabaje de forma integral para que toda la gente pueda
  vivir en una situación de bienestar físico y emocional.\n\nEl evento SO
 LIDARIZAR\, que se celebra anualmente desde el año 2013\, que cuenta con 
 una amplia trayectoria que le ha consolidado como un punto de encuentro de
  grupos de solidaridad y asociaciones\, además de ser un mercadillo de 2
 ª mano de referencia en la ciudad de Zaragoza.\n\nLa Federación Aragones
 a de Solidaridad y varias ONGD miembro de la FAS participarán en este eve
 nto mostrando su labor ante la ciudadanía zaragozana con puestos informat
 ivos y de sensibilización\, puestos de venta de productos solidarios y de
  comercio justo\, y realizando talleres/actividades sobre la temática del
  evento: la salud y el bienestar en su dimensión más integral.\n\nLa jor
 nada se estructura en torno a cuatro pilares:\n\n 	Feria de Asociaciones:
  se cuenta con la colaboración con Federación Aragonesa de Solidaridad 
 y tendrá la presencia de varias asociaciones.\n 	Mercadillo de segunda ma
 no: habrá 80 puestos de particulares. Se fomenta el reciclaje y la reuti
 lización. Es necesaria inscripción previa y abonar una cuota solidaria d
 e 15 euros que ira destinada íntegramente a la asociación Medicusmundi. 
 La inscripción puede realizarse hasta el 1 de marzo a través del correo
  mercadillosolidarizar@gmail.com\n 	Espacio joven: grupos de solidaridad
 \, voluntarios y colaboradores dispondrán de un espacio para visualizar e
 l trabajo y los hermanamientos impulsados por las Zonas Jóvenes de Zarago
 za.\n 	Programación de actividades: a lo largo de la jornada se cuenta c
 on diferentes espacios con talleres y actividades para peques y toda la fa
 milia\, escape rooms sobre ODS y cambio climático\, DJs\, creaciones art
 ísticas colectivas\, etc. En la Sala Multiusos se exhibirán varias expos
 iciones que nos hablarán sobre Desarrollo Sostenible y Salud. Además se 
 sorteará una cesta de comercio justo y habrá batukada.\n\nMÁS INFORMACI
 ÓN en https://mercadillosolidarizar.blogspot.com/
ATTACH;FMTTYPE=image/jpeg:https://aragonsolidario.org/wp-content/uploads/2
 024/01/solidarizar-24.webp
CATEGORIES:FAS
LOCATION:Sala Multiuosos - Auditorio de Zaragoza\,  C/ Eduardo Ibarra\, 3\,
  Zaragoza\, Zaragoza\, 50009\, España
GEO:41.638041;-0.901041
X-APPLE-STRUCTURED-LOCATION;VALUE=URI;X-ADDRESS= C/ Eduardo Ibarra\, 3\, Za
 ragoza\, Zaragoza\, 50009\, España;X-APPLE-RADIUS=100;X-TITLE=Sala Multiu
 osos - Auditorio de Zaragoza:geo:41.638041,-0.901041
END:VEVENT
BEGIN:VTIMEZONE
TZID:Europe/Madrid
X-LIC-LOCATION:Europe/Madrid
BEGIN:STANDARD
DTSTART:20231029T020000
TZOFFSETFROM:+0200
TZOFFSETTO:+0100
TZNAME:CET
END:STANDARD
END:VTIMEZONE
END:VCALENDAR