BEGIN:VCALENDAR
VERSION:2.0
PRODID:-//wp-events-plugin.com//7.2.3.1//EN
TZID:Europe/Madrid
X-WR-TIMEZONE:Europe/Madrid
BEGIN:VEVENT
UID:517@aragonsolidario.org
DTSTART;TZID=Europe/Madrid:20251115T120000
DTEND;TZID=Europe/Madrid:20251115T133000
DTSTAMP:20251103T092158Z
URL:https://aragonsolidario.org/eventos/sesion-voluntariado-internacional-
 25
SUMMARY:Sesión Informativa sobre Voluntariado Internacional y Campos de Tr
 abajo 2026.
DESCRIPTION:En esta sesión se explica el programa de voluntariado internac
 ional 2026 y los campos de trabajo que organiza VIDES. Está enfocada a pe
 rsonas con más de 21 años que tengan vocación de servicio y quieran rea
 lizar un voluntariado internacional con la ONGD VIDES.\n\nSe ruega confirm
 ar asistencia en aragon@vides.es\n\nMás info: www.vides.es/quieres-hacer-
 voluntariado-internacional/\n\n&nbsp\;
ATTACH;FMTTYPE=image/jpeg:https://aragonsolidario.org/wp-content/uploads/2
 025/11/SESION-INFORMATIVA-2025.webp
CATEGORIES:ONGD FAS
LOCATION:Centro Mancala\, C/ Pedro Saputo 3\, Zaragoza\, 50018\, España
GEO:41.676473;-0.89626
X-APPLE-STRUCTURED-LOCATION;VALUE=URI;X-ADDRESS=C/ Pedro Saputo 3\, Zaragoz
 a\, 50018\, España;X-APPLE-RADIUS=100;X-TITLE=Centro Mancala:geo:41.67647
 3,-0.89626
END:VEVENT
BEGIN:VTIMEZONE
TZID:Europe/Madrid
X-LIC-LOCATION:Europe/Madrid
BEGIN:STANDARD
DTSTART:20251026T020000
TZOFFSETFROM:+0200
TZOFFSETTO:+0100
TZNAME:CET
END:STANDARD
END:VTIMEZONE
END:VCALENDAR