BEGIN:VCALENDAR
VERSION:2.0
PRODID:-//wp-events-plugin.com//7.2.3.1//EN
TZID:Europe/Madrid
X-WR-TIMEZONE:Europe/Madrid
BEGIN:VEVENT
UID:541@aragonsolidario.org
DTSTART;TZID=Europe/Madrid:20251204T160000
DTEND;TZID=Europe/Madrid:20251204T173000
DTSTAMP:20251121T112621Z
URL:https://aragonsolidario.org/eventos/sesion-carlos-taibo-decrecimiento-
 25
SUMMARY:Sesión abierta: Carlos Taibo – “Decrecimiento y colapso ecosoc
 ial”
DESCRIPTION:En el marco del Máster de Formación Permanente Cooperación p
 ara el Desarrollo\, la Cátedra de Cooperación para el Desarrollo de la U
 niversidad de Zaragoza y la Federación Aragonesa de Solidaridad organizan
  una nueva sesión abierta al público con la participación de Carlos Tai
 bo Arias.\nEn esta conferencia se abordarán las claves del decrecimiento 
 y del colapso ecosocial\, analizando sus implicaciones para la justicia gl
 obal\, los modelos de desarrollo y las políticas de cooperación. Será u
 n espacio para reflexionar\, desde una mirada crítica\, sobre los límite
 s del crecimiento ilimitado y la necesidad de transiciones justas y sosten
 ibles a nivel global.\nInvitamos a estudiantes\, profesorado\, ONGD y cual
 quier persona interesada en la cooperación y la sostenibilidad a asistir 
 y participar en el debate.\nLugar: Facultad de Ciencias Sociales y del Tra
 bajo (Universidad de Zaragoza). Aula Magna (aula 10)Actividad abierta y gr
 atuita hasta completar aforo.\n\n
ATTACH;FMTTYPE=image/jpeg:https://aragonsolidario.org/wp-content/uploads/2
 025/11/Sesion-en-abierto-de-Carlos-Taibo.webp
CATEGORIES:FAS
LOCATION:Facultad de Ciencias Sociales y del Trabajo de la Universidad de Z
 aragoza\, C. de Violante de Hungría\, 23\, Zaragoza\, Zaragoza\, 50009\, 
 España
GEO:41.641799;-0.905544
X-APPLE-STRUCTURED-LOCATION;VALUE=URI;X-ADDRESS=C. de Violante de Hungría\
 , 23\, Zaragoza\, Zaragoza\, 50009\, España;X-APPLE-RADIUS=100;X-TITLE=Fa
 cultad de Ciencias Sociales y del Trabajo de la Universidad de Zaragoza:ge
 o:41.641799,-0.905544
END:VEVENT
BEGIN:VTIMEZONE
TZID:Europe/Madrid
X-LIC-LOCATION:Europe/Madrid
BEGIN:STANDARD
DTSTART:20251026T020000
TZOFFSETFROM:+0200
TZOFFSETTO:+0100
TZNAME:CET
END:STANDARD
END:VTIMEZONE
END:VCALENDAR