BEGIN:VCALENDAR
VERSION:2.0
PRODID:-//wp-events-plugin.com//7.2.3.1//EN
TZID:Europe/Madrid
X-WR-TIMEZONE:Europe/Madrid
BEGIN:VEVENT
UID:279@aragonsolidario.org
DTSTART;TZID=Europe/Madrid;VALUE=DATE:20240409
DTEND;TZID=Europe/Madrid;VALUE=DATE:20240418
DTSTAMP:20240408T093851Z
URL:https://aragonsolidario.org/eventos/semana-sol-san-jorge
SUMMARY:Semana de la Solidaridad Universidad de San Jorge
DESCRIPTION:La Universidad de San Jorge organiza su VIII semana de la solid
 aridad\, Retos de la Coopreación Internacional- Hacia el Futuro\, con dif
 erentes actividades en varios espacios.\n\n\n\n\n\n
ATTACH;FMTTYPE=image/jpeg:https://aragonsolidario.org/wp-content/uploads/2
 024/04/SEMANA-DE-LA-SOLIDARIDAD-USJ_baja.webp
CATEGORIES:Otras entidades
LOCATION:Universidad San Jorge (USJ)\, Campus Universitario\, Autovía Mud
 éjar\, km. 299\, \, Villanueva de Gállego\, 50830 \, España
GEO:41.756929;-0.832485
X-APPLE-STRUCTURED-LOCATION;VALUE=URI;X-ADDRESS=Campus Universitario\, Auto
 vía Mudéjar\, km. 299\, \, Villanueva de Gállego\, 50830 \, España;X-A
 PPLE-RADIUS=100;X-TITLE=Universidad San Jorge (USJ):geo:41.756929,-0.83248
 5
END:VEVENT
BEGIN:VTIMEZONE
TZID:Europe/Madrid
X-LIC-LOCATION:Europe/Madrid
BEGIN:DAYLIGHT
DTSTART:20240331T030000
TZOFFSETFROM:+0100
TZOFFSETTO:+0200
TZNAME:CEST
END:DAYLIGHT
END:VTIMEZONE
END:VCALENDAR