BEGIN:VCALENDAR
VERSION:2.0
PRODID:-//wp-events-plugin.com//7.2.3.1//EN
TZID:Europe/Madrid
X-WR-TIMEZONE:Europe/Madrid
BEGIN:VEVENT
UID:430@aragonsolidario.org
DTSTART;TZID=Europe/Madrid;VALUE=DATE:20250331
DTEND;TZID=Europe/Madrid;VALUE=DATE:20250408
DTSTAMP:20250317T125002Z
URL:https://aragonsolidario.org/eventos/semana-bolivia-cristorey25
SUMMARY:Semana de Bolivia
DESCRIPTION:Cáritas organiza las actividades:\n📷 Exposición fotográfi
 ca "Zaragoza con Puna"🗓️ 31 de marzo - 7 de abril🕚 Horario: 11:00-
 13:00 h y 17:00-20:00 h🎉 Inauguración: Lunes 31 de marzo\, 17:00 h (co
 n un pequeño ágape al finalizar).\n💬 Mesa Redonda🗓️ Jueves 3 de 
 abril\, 17:30 h🎙️ Participan representantes de Cáritas Diocesana de 
 Zaragoza y la Unidad Pastoral Cáritas San Juan de Ávila-Cristo Rey.🗣
 ️ Modera: Samuel Pérez (párroco de Cristo Rey).🥟 Al finalizar\, deg
 ustación de productos típicos bolivianos.\nEstas actividades están enma
 rcadas en el proyecto de cooperación "Kallpachacuna\, sumaj causanapaj"\,
  que busca fortalecer la seguridad alimentaria en Puna con un enfoque agro
 ecológico y de derechos.
ATTACH;FMTTYPE=image/jpeg:https://aragonsolidario.org/wp-content/uploads/2
 025/03/20250403_cartel_expo_bolivia_cristorey-scaled.webp
CATEGORIES:ONGD FAS
LOCATION:Parroquia de Cristo Rey\, C. del Monasterio de Ntra. Sra. del Puey
 o\, s/n\, \, Zaragoza\, 50002 \, España
GEO:41.646142;-0.867208
X-APPLE-STRUCTURED-LOCATION;VALUE=URI;X-ADDRESS=C. del Monasterio de Ntra. 
 Sra. del Pueyo\, s/n\, \, Zaragoza\, 50002 \, España;X-APPLE-RADIUS=100;X
 -TITLE=Parroquia de Cristo Rey:geo:41.646142,-0.867208
END:VEVENT
BEGIN:VTIMEZONE
TZID:Europe/Madrid
X-LIC-LOCATION:Europe/Madrid
BEGIN:DAYLIGHT
DTSTART:20250330T030000
TZOFFSETFROM:+0100
TZOFFSETTO:+0200
TZNAME:CEST
END:DAYLIGHT
END:VTIMEZONE
END:VCALENDAR