BEGIN:VCALENDAR
VERSION:2.0
PRODID:-//wp-events-plugin.com//7.2.3.1//EN
TZID:Europe/Madrid
X-WR-TIMEZONE:Europe/Madrid
BEGIN:VEVENT
UID:510@aragonsolidario.org
DTSTART;TZID=Europe/Madrid:20251113T183000
DTEND;TZID=Europe/Madrid:20251113T183000
DTSTAMP:20251103T082734Z
URL:https://aragonsolidario.org/eventos/salud-global-one-health-25
SUMMARY:Mesa redonda sobre salud global - One Health. 50 años de Medicus M
 undi en Aragón
DESCRIPTION:Con el Dr. Fernando Simón Soria\, director del Centro Coordina
 dor de Alertas y Emergencias Sanitarias del Ministerio de Sanidad\, Dr. Ju
 an José Badiola Díez\, Catedrático de Patología animal e investigador 
 de la Universidad de Zaragoza y Dra. Cristina Linares Gil. Investigadora y
  Codirectora de la Unidad de Referencia en Cambio Climático\, Salud y Med
 io Ambiente Urbano del Instituto de Salud Carlos III. La actividad comenza
 rá con la proyección de un video conmemorativo y un pequeño acto de pre
 sentación y concluirá con la actuación del Coro Carmina Medicas del Col
 egio de Médicos de Zaragoza. Entrada libre hasta completar aforo.\n\nMás
  info: https://lasaludunderecho.es/2025/10/31/cincuenta-anos-de-medicus-mu
 ndi-en-aragon/
ATTACH;FMTTYPE=image/jpeg:https://aragonsolidario.org/wp-content/uploads/2
 025/11/LOGO-50-aniv-ARA-scaled.webp
CATEGORIES:ONGD FAS
LOCATION:Colegio de Médicos de Zaragoza\, P.º de los Ruiseñores\, 2\, Za
 ragoza\, 50006\, España
GEO:41.638246;-0.887086
X-APPLE-STRUCTURED-LOCATION;VALUE=URI;X-ADDRESS=P.º de los Ruiseñores\, 2
 \, Zaragoza\, 50006\, España;X-APPLE-RADIUS=100;X-TITLE=Colegio de Médic
 os de Zaragoza:geo:41.638246,-0.887086
END:VEVENT
BEGIN:VTIMEZONE
TZID:Europe/Madrid
X-LIC-LOCATION:Europe/Madrid
BEGIN:STANDARD
DTSTART:20251026T020000
TZOFFSETFROM:+0200
TZOFFSETTO:+0100
TZNAME:CET
END:STANDARD
END:VTIMEZONE
END:VCALENDAR