BEGIN:VCALENDAR
VERSION:2.0
PRODID:-//wp-events-plugin.com//7.2.3.1//EN
TZID:Europe/Madrid
X-WR-TIMEZONE:Europe/Madrid
BEGIN:VEVENT
UID:498@aragonsolidario.org
DTSTART;TZID=Europe/Madrid;VALUE=DATE:20251018
DTEND;TZID=Europe/Madrid;VALUE=DATE:20251130
DTSTAMP:20251001T142907Z
URL:https://aragonsolidario.org/eventos/sahara-occidental-periodismo-ddhh-
 25
SUMMARY:Sahara Occidental: periodismo por los derechos humanos
DESCRIPTION:18 octubre 2025 | 12 horasEl Sahara Occidental\, Frantz Fanon d
 ecía\, «Cada generación debe descubrir su misión».BAHIA MH AWAHEscrit
 or\, poeta\, Doctor en Antropología Social y Profesor honorario de la UAM
 .\n25 octubre 2025 | 12 horasLavado verde en el Sáhara Occidental.AHMEDNA
  ABDI M’BAREKJurista y activista en las cumbres climáticas y en el Cons
 ejo de Derechos de las Naciones Unidas.\n8 noviembre 2025 | 12 horasSalud 
 mental y refugio.DOUMAHAA ALYENEPsicóloga.\n14 noviembre 2025 | 18 horasC
 ulturicidio.AWWAH WALADArtista interdisciplinario.\n22 noviembre 2025 | 12
  horasProyección del documental «DESERT PHOSfate».MOHAMED SLEIMAN LABAT
 Artista. multidisciplinar\, cineasta y escritor.\n29 noviembre 2025 | 12 h
 orasCreando redes para visibilizarnos.MUTSE CHOUWEYARTivista y creadora de
 l proyecto Desertia.\n\n\nAFORO MÁXIMO 50 PERSONAS - ORGANIZA LEFRIG - IN
 SCRIPCIÓN AQUÍ\n\n
ATTACH;FMTTYPE=image/jpeg:https://aragonsolidario.org/wp-content/uploads/2
 025/10/556761503_18077027534040176_1528866960893111836_n.webp
CATEGORIES:ONGD FAS
LOCATION:LEFRIG\, C. de las Armas\, 74 \, Zaragoza\, 50003\, España
GEO:41.656891;-0.886137
X-APPLE-STRUCTURED-LOCATION;VALUE=URI;X-ADDRESS=C. de las Armas\, 74 \, Zar
 agoza\, 50003\, España;X-APPLE-RADIUS=100;X-TITLE=LEFRIG:geo:41.656891,-0
 .886137
END:VEVENT
BEGIN:VTIMEZONE
TZID:Europe/Madrid
X-LIC-LOCATION:Europe/Madrid
BEGIN:DAYLIGHT
DTSTART:20250330T030000
TZOFFSETFROM:+0100
TZOFFSETTO:+0200
TZNAME:CEST
END:DAYLIGHT
BEGIN:STANDARD
DTSTART:20251026T020000
TZOFFSETFROM:+0200
TZOFFSETTO:+0100
TZNAME:CET
END:STANDARD
END:VTIMEZONE
END:VCALENDAR