BEGIN:VCALENDAR
VERSION:2.0
PRODID:-//wp-events-plugin.com//7.2.3.1//EN
TZID:Europe/Madrid
X-WR-TIMEZONE:Europe/Madrid
BEGIN:VEVENT
UID:530@aragonsolidario.org
DTSTART;TZID=Europe/Madrid:20251101T160000
DTEND;TZID=Europe/Madrid:20251101T160000
DTSTAMP:20251104T094356Z
URL:https://aragonsolidario.org/eventos/sabores-de-africa-taller-25
SUMMARY:Sabores de África. Taller de cocina y cultura
DESCRIPTION:CC ONG nos invita a este taller de cocina y cultura con cociner
 as del colectivo Sueños de Codesarrollo.\n\nAportación 10 €\n\nPlazas 
 limitadas. Reserva en 661 640 188\n\n&nbsp\;
ATTACH;FMTTYPE=image/jpeg:https://aragonsolidario.org/wp-content/uploads/2
 025/11/WhatsApp-Image-2025-11-04-at-10.19.37.webp
CATEGORIES:ONGD FAS
LOCATION:Palasaca\, C/ San Bernardo 15\, Huesca\, España
GEO:42.141812;-0.409362
X-APPLE-STRUCTURED-LOCATION;VALUE=URI;X-ADDRESS=C/ San Bernardo 15\, Huesca
 \, España;X-APPLE-RADIUS=100;X-TITLE=Palasaca:geo:42.141812,-0.409362
END:VEVENT
BEGIN:VTIMEZONE
TZID:Europe/Madrid
X-LIC-LOCATION:Europe/Madrid
BEGIN:STANDARD
DTSTART:20251026T020000
TZOFFSETFROM:+0200
TZOFFSETTO:+0100
TZNAME:CET
END:STANDARD
END:VTIMEZONE
END:VCALENDAR