BEGIN:VCALENDAR
VERSION:2.0
PRODID:-//wp-events-plugin.com//7.2.3.1//EN
TZID:Europe/Madrid
X-WR-TIMEZONE:Europe/Madrid
BEGIN:VEVENT
UID:578@aragonsolidario.org
DTSTART;TZID=Europe/Madrid:20260303T183000
DTEND;TZID=Europe/Madrid:20260303T203000
DTSTAMP:20260220T120031Z
URL:https://aragonsolidario.org/eventos/recordando-berta-caceres-26
SUMMARY:Recordando a Berta Cáceres
DESCRIPTION:Proyección del documental “Las Semillas de Berta” y coloqu
 io para recordar a Berta Cáceres y sus luchas en el 10º aniversario de s
 u asesinato. La actividad\, organizada conjuntamente por varias entidades 
 sociales\, tendrá lugar el martes 3 de marzo\, a las 18:30 h\, en el Cent
 ro Joaquín Roncal (C/ San Braulio\, 5–7\, Zaragoza) y propone un espaci
 o de memoria\, reflexión y diálogo en torno a la defensa de los derechos
  humanos y del territorio.\n\n
ATTACH;FMTTYPE=image/jpeg:https://aragonsolidario.org/wp-content/uploads/2
 026/02/Berta-2026-f.webp
CATEGORIES:ONGD FAS
LOCATION:Centro Joaquín Roncal\, C. de San Braulio\, 5\, Zaragoza\, 50003\
 , España
GEO:41.654686;-0.879386
X-APPLE-STRUCTURED-LOCATION;VALUE=URI;X-ADDRESS=C. de San Braulio\, 5\, Zar
 agoza\, 50003\, España;X-APPLE-RADIUS=100;X-TITLE=Centro Joaquín Roncal:
 geo:41.654686,-0.879386
END:VEVENT
BEGIN:VTIMEZONE
TZID:Europe/Madrid
X-LIC-LOCATION:Europe/Madrid
BEGIN:STANDARD
DTSTART:20251026T020000
TZOFFSETFROM:+0200
TZOFFSETTO:+0100
TZNAME:CET
END:STANDARD
END:VTIMEZONE
END:VCALENDAR