BEGIN:VCALENDAR
VERSION:2.0
PRODID:-//wp-events-plugin.com//7.2.3.1//EN
TZID:Europe/Madrid
X-WR-TIMEZONE:Europe/Madrid
BEGIN:VEVENT
UID:73@aragonsolidario.org
DTSTART;TZID=Europe/Madrid:20230418T103000
DTEND;TZID=Europe/Madrid:20230418T140000
DTSTAMP:20230410T110158Z
URL:https://aragonsolidario.org/eventos/rebeldia-rural-luz-llega-al-pueblo
 -23
SUMMARY:Mesa redonda Economía Social y Solidaria + Proyección documental 
 "Rebeldía rural\, la luz llega al pueblo"
DESCRIPTION:Mesa redonda sobre Economía Social y Solidaria y proyección d
 el documental "Rebeldía rural\, la luz llega al pueblo" y posterior coloq
 uio con los protagonistas\n\n18 de abril\, 10.30 y 12.50 horas. CPIFP Move
 ra (Zaragoza)\n\nMás información: https://justiciaalimentaria.org/actual
 idad/
ATTACH;FMTTYPE=image/jpeg:https://aragonsolidario.org/wp-content/uploads/2
 023/04/cartel-Movera.webp
CATEGORIES:ONGD FAS
LOCATION:CPIFP Movera\, Ctra. Pastriz\, Km. 3\,6\,\, Movera\, 50194\, Espa
 ña
GEO:41.668578;-0.838595
X-APPLE-STRUCTURED-LOCATION;VALUE=URI;X-ADDRESS=Ctra. Pastriz\, Km. 3\,6\,\
 , Movera\, 50194\, España;X-APPLE-RADIUS=100;X-TITLE=CPIFP Movera:geo:41.
 668578,-0.838595
END:VEVENT
BEGIN:VTIMEZONE
TZID:Europe/Madrid
X-LIC-LOCATION:Europe/Madrid
BEGIN:DAYLIGHT
DTSTART:20230326T030000
TZOFFSETFROM:+0100
TZOFFSETTO:+0200
TZNAME:CEST
END:DAYLIGHT
END:VTIMEZONE
END:VCALENDAR