BEGIN:VCALENDAR
VERSION:2.0
PRODID:-//wp-events-plugin.com//7.2.3.1//EN
TZID:Europe/Madrid
X-WR-TIMEZONE:Europe/Madrid
BEGIN:VEVENT
UID:542@aragonsolidario.org
DTSTART;TZID=Europe/Madrid;VALUE=DATE:20251211
DTEND;TZID=Europe/Madrid;VALUE=DATE:20251215
DTSTAMP:20251125T084239Z
URL:https://aragonsolidario.org/eventos/rastrillo-vf25
SUMMARY:Rastrillo solidario Vicente Ferrer
DESCRIPTION:Del 11 al 14 de diciembre se celebra en Zaragoza el tradicional
  Rastrillo Solidario organizado por el Grupo de Voluntarios de la Fundaci
 ón Vicente Ferrer. Una cita abierta a la ciudadanía que ofrece productos
  de Comercio Justo\, artesanía\, bisutería\, libros\, detalles navideño
 s y artículos de coleccionismo.\nEl rastrillo tendrá lugar en C/ López 
 Allué\, 1 y abrirá jueves 11 y viernes 12 de 17:00 a 20:30\, y sábado 1
 3 y domingo 14 en horario de 11:00 a 14:00 y de 17:00 a 20:30. Una oportun
 idad para realizar compras responsables y apoyar iniciativas solidarias qu
 e contribuyen a mejorar la vida de comunidades en India.\n
ATTACH;FMTTYPE=image/jpeg:https://aragonsolidario.org/wp-content/uploads/2
 025/11/rastrillo-Navideno_2025FVF_page-0001-scaled.webp
CATEGORIES:ONGD FAS
LOCATION:López Allúe\, 1\, C. de Luis López Allué\, 1\, Zaragoza\, 5000
 5 \, España
GEO:41.644272;-0.893756
X-APPLE-STRUCTURED-LOCATION;VALUE=URI;X-ADDRESS=C. de Luis López Allué\, 
 1\, Zaragoza\, 50005 \, España;X-APPLE-RADIUS=100;X-TITLE=López Allúe\,
  1:geo:41.644272,-0.893756
END:VEVENT
BEGIN:VTIMEZONE
TZID:Europe/Madrid
X-LIC-LOCATION:Europe/Madrid
BEGIN:STANDARD
DTSTART:20251026T020000
TZOFFSETFROM:+0200
TZOFFSETTO:+0100
TZNAME:CET
END:STANDARD
END:VTIMEZONE
END:VCALENDAR