BEGIN:VCALENDAR
VERSION:2.0
PRODID:-//wp-events-plugin.com//7.2.3.1//EN
TZID:Europe/Madrid
X-WR-TIMEZONE:Europe/Madrid
BEGIN:VEVENT
UID:496@aragonsolidario.org
DTSTART;TZID=Europe/Madrid:20250929T173000
DTEND;TZID=Europe/Madrid:20250929T190000
DTSTAMP:20250922T113859Z
URL:https://aragonsolidario.org/eventos/presentacion-escribeme
SUMMARY:Presentación ESCRÍBEME
DESCRIPTION:Presentación de “Escríbeme”\, una herramienta de Educaci
 ón para la Paz\, Interculturalidad y Migraciones de EpDCG. Participan Car
 los Grassa Toro\, Julieta Kühl\, Ana Yael e invitados especiales. Se cele
 bra el 29 de septiembre a las 17:30 h en el Centro Joaquín Roncal (Zarago
 za).\nHermanamiento León - Zaragoza
ATTACH;FMTTYPE=image/jpeg:https://aragonsolidario.org/wp-content/uploads/2
 025/09/poster-escribeme-1_page-0001.webp
CATEGORIES:ONGD FAS
LOCATION:Centro Joaquín Roncal\, C. de San Braulio\, 5\, Zaragoza\, 50003\
 , España
GEO:41.654686;-0.879386
X-APPLE-STRUCTURED-LOCATION;VALUE=URI;X-ADDRESS=C. de San Braulio\, 5\, Zar
 agoza\, 50003\, España;X-APPLE-RADIUS=100;X-TITLE=Centro Joaquín Roncal:
 geo:41.654686,-0.879386
END:VEVENT
BEGIN:VTIMEZONE
TZID:Europe/Madrid
X-LIC-LOCATION:Europe/Madrid
BEGIN:DAYLIGHT
DTSTART:20250330T030000
TZOFFSETFROM:+0100
TZOFFSETTO:+0200
TZNAME:CEST
END:DAYLIGHT
END:VTIMEZONE
END:VCALENDAR