BEGIN:VCALENDAR
VERSION:2.0
PRODID:-//wp-events-plugin.com//7.2.3.1//EN
TZID:Europe/Madrid
X-WR-TIMEZONE:Europe/Madrid
BEGIN:VEVENT
UID:575@aragonsolidario.org
DTSTART;TZID=Europe/Madrid:20260225T183000
DTEND;TZID=Europe/Madrid:20260225T200000
DTSTAMP:20260209T120345Z
URL:https://aragonsolidario.org/eventos/presen-libro-guerra-paz-periodismo
SUMMARY:Presentación del libro “Guerra\, paz y periodismo” en Zaragoza
DESCRIPTION:\n\n\n\n\n\n\n\nEn un contexto mundial de múltiples\, complejo
 s y diversos conflictos es necesario contar con reflexiones rigurosas que 
 permitan generar conciencia crítica y propuestas alternativas. Con este o
 bjetivo\, AIPAZ\, la FAS\, el Seminario de Investigación para la Paz y La
  Coordinadora promueven este encuentro en el que se entablará un diálogo
  en torno a la guerra\, la paz y el periodismo. Pero no solo. La presentac
 ión del libro “Guerra\, paz y periodismo” servirá para incidir en la
  urgente necesidad de reforzar los valores esenciales en la construcción 
 de sociedades democráticas en las que se garanticen plenamente los derech
 os humanos.\n\nEl diálogo ahondará en las responsabilidades periodístic
 as en la construcción de paz\, en las propuestas sociales que construyen 
 alternativas a las violencias y las agresiones\, en la consecuencias de al
 imentar los discursos belicistas o cuidar los que fortalecen la convivenci
 a y la paz. Una excelente oportunidad para entender el engranaje de la gue
 rra y los intereses de quienes la promueven.\n\nContribuirá a entender un
  poco mejor el contexto internacional que vivimos\, indagar en propuestas 
 colectivas que defienden la paz\, y enfocar a aquellos espacios en los que
 \, pese a todo\, la vida sigue abriéndose paso y demostrando que otros mo
 delos son posibles.\n\nSerá en el salón de actos del Centro Pignatelli. 
 Entrada libre hasta completar aforo.\nPatricia Simón Carrasco\, lleva má
 s de veinte años cubriendo migraciones\, movimientos sociales\, conflicto
 s y crisis humanitarias en más de una treintena de países\, con múltipl
 es medios de comunicación nacionales e internacionales. Patricia es autor
 a de libros como Miedo: Viaje por un mundo que se resiste a ser gobernado
  por el odio y Narrar el abismo. Especializada en derechos humanos y en
 foque feminista\, ha destacado desde el inicio de su carrera por un incans
 able esfuerzo por contar los temas que definen nuestra era huyendo del cat
 astrofismo y con un profundo humanismo.\n\nMaría Jesús Luna Serreta\, e
 s antropóloga social y cultural\, diplomada en Trabajo Social\, y actualm
 ente directora de la Fundación Seminario de Investigación para la Paz. A
 demás es profesora de secundaria\, en la especialidad de Intervención So
 ciocomunitaria. Por todo ello\, acumula una amplia trayectoria en mediaci
 ón y resolución de conflictos\, y en trabajo comunitario\, tanto en Zara
 goza como en la ciudad de León\, Nicaragua. Su recorrido combina el anál
 isis social\, la educación y el compromiso con la construcción de paz de
 sde una perspectiva profundamente humanista.\n\n\n\n\n\n\n\n\n\n\n\n\n\n
ATTACH;FMTTYPE=image/jpeg:https://aragonsolidario.org/wp-content/uploads/2
 026/02/25Feb_Paz_Zaragoza-scaled.webp
CATEGORIES:FAS
LOCATION:Centro Pignatelli\, P.º de la Constitución\, 6\, Zaragoza\, Zara
 goza\, 50008\, España
GEO:41.647252;-0.883937
X-APPLE-STRUCTURED-LOCATION;VALUE=URI;X-ADDRESS=P.º de la Constitución\, 
 6\, Zaragoza\, Zaragoza\, 50008\, España;X-APPLE-RADIUS=100;X-TITLE=Centr
 o Pignatelli:geo:41.647252,-0.883937
END:VEVENT
BEGIN:VTIMEZONE
TZID:Europe/Madrid
X-LIC-LOCATION:Europe/Madrid
BEGIN:STANDARD
DTSTART:20251026T020000
TZOFFSETFROM:+0200
TZOFFSETTO:+0100
TZNAME:CET
END:STANDARD
END:VTIMEZONE
END:VCALENDAR