BEGIN:VCALENDAR
VERSION:2.0
PRODID:-//wp-events-plugin.com//7.2.3.1//EN
TZID:Europe/Madrid
X-WR-TIMEZONE:Europe/Madrid
BEGIN:VEVENT
UID:527@aragonsolidario.org
DTSTART;TZID=Europe/Madrid:20251110T180000
DTEND;TZID=Europe/Madrid:20251129T200000
DTSTAMP:20251103T142851Z
URL:https://aragonsolidario.org/eventos/patrimonio-mudejar-y-diversidad-cu
 ltural-en-un-mundo-global
SUMMARY:Patrimonio mudejar y diversidad cultural en un mundo global
DESCRIPTION:Fase 1\, Proyecto Aljamía\, charlas formativas en noviembre de
  2025.\n\nFormación dirigida a jóvenes entre 18 y 30 años.\n\nLas perso
 nas que completen la formación tendrán un diploma en Estrategias y herra
 mientas para la mediación intercultural a través del patrimonio mudejar\
 , con una duración de 30 horas y respaldo académico.\n\nMás info: epd@a
 fricagua.org
ATTACH;FMTTYPE=image/jpeg:https://aragonsolidario.org/wp-content/uploads/2
 025/11/2a.webp
CATEGORIES:ONGD FAS
LOCATION:Facultad de Filosofía y Letras\, Pl. S. Francisco\, 15\, Zaragoza
 \, España
GEO:41.641774;-0.895632
X-APPLE-STRUCTURED-LOCATION;VALUE=URI;X-ADDRESS=Pl. S. Francisco\, 15\, Zar
 agoza\, España;X-APPLE-RADIUS=100;X-TITLE=Facultad de Filosofía y Letras
 :geo:41.641774,-0.895632
END:VEVENT
BEGIN:VTIMEZONE
TZID:Europe/Madrid
X-LIC-LOCATION:Europe/Madrid
BEGIN:STANDARD
DTSTART:20251026T020000
TZOFFSETFROM:+0200
TZOFFSETTO:+0100
TZNAME:CET
END:STANDARD
END:VTIMEZONE
END:VCALENDAR