BEGIN:VCALENDAR
VERSION:2.0
PRODID:-//wp-events-plugin.com//7.2.3.1//EN
TZID:Europe/Madrid
X-WR-TIMEZONE:Europe/Madrid
BEGIN:VEVENT
UID:582@aragonsolidario.org
DTSTART;TZID=Europe/Madrid;VALUE=DATE:20260318
DTEND;TZID=Europe/Madrid;VALUE=DATE:20260402
DTSTAMP:20260311T083310Z
URL:https://aragonsolidario.org/eventos/obras-arte-estrella-26
SUMMARY:Exposición y venta solidaria de Arte Estrella de la Mañana
DESCRIPTION:\n\n\n\n\n\n\nLa Asociación Estrella de la Mañana celebrará 
 del 18 de marzo al 1 de abril de 2026 una Exposición y venta solidaria de
  Arte en la Agrupación Artística Aragonesa de Zaragoza (C/ Mariano Lagas
 ca\, 23)\, una iniciativa que une arte y solidaridad para recaudar fondos 
 destinados a sus proyectos de la asociación. La muestra contará con obra
 s de artistas como José Luis Cano\, Eva Armisen\, Alberto Dulce\, V. Sana
 gustín\, Enciso\, Emilio Arce e Ignacio Fortún.\n\n\n\n\n\nLUNES A SÁBA
 DO de 12-14 h y 18-21 h\nDOMINGOS YFESTIVOS de 12 a 14 h.\n28 y 29 de marz
 o cerrado\n\n\n\n\n\n\n
ATTACH;FMTTYPE=image/jpeg:https://aragonsolidario.org/wp-content/uploads/2
 026/03/26-arte-por-un-tubo.webp
CATEGORIES:ONGD FAS
LOCATION:Agrupación Artística Aragonesa\, C. de Mariano Lagasca\, 23\, \,
  Zaragoza\, 50006 \, España
GEO:41.644954;-0.888707
X-APPLE-STRUCTURED-LOCATION;VALUE=URI;X-ADDRESS=C. de Mariano Lagasca\, 23\
 , \, Zaragoza\, 50006 \, España;X-APPLE-RADIUS=100;X-TITLE=Agrupación Ar
 tística Aragonesa:geo:41.644954,-0.888707
END:VEVENT
BEGIN:VTIMEZONE
TZID:Europe/Madrid
X-LIC-LOCATION:Europe/Madrid
BEGIN:STANDARD
DTSTART:20251026T020000
TZOFFSETFROM:+0200
TZOFFSETTO:+0100
TZNAME:CET
END:STANDARD
BEGIN:DAYLIGHT
DTSTART:20260329T030000
TZOFFSETFROM:+0100
TZOFFSETTO:+0200
TZNAME:CEST
END:DAYLIGHT
END:VTIMEZONE
END:VCALENDAR