BEGIN:VCALENDAR
VERSION:2.0
PRODID:-//wp-events-plugin.com//7.2.3.1//EN
TZID:Europe/Madrid
X-WR-TIMEZONE:Europe/Madrid
BEGIN:VEVENT
UID:518@aragonsolidario.org
DTSTART;TZID=Europe/Madrid:20251111T170000
DTEND;TZID=Europe/Madrid:20251111T190000
DTSTAMP:20251103T101111Z
URL:https://aragonsolidario.org/eventos/narrativas-discursos-odio-migracio
 nes-25
SUMMARY:Formación online Narrativas eficaces para combatir los discursos d
 e odio sobre migraciones.
DESCRIPTION:Médicos del Mundo Aragón organiza la formación online "Narra
 tivas eficaces para combatir los discursos de odio sobre migraciones" que 
 contará con la participación del investigador y activista Gonzalo Fanjul
  de la fundación porCausa.\nEn este espacio se brindarán elementos clave
  para crear o transformar las narrativas sobre los movimientos migratorio
 s.\n \nInscripciones: Rellenar formulario
ATTACH;FMTTYPE=image/jpeg:https://aragonsolidario.org/wp-content/uploads/2
 025/11/formacion-mdm.webp
CATEGORIES:FAS
LOCATION:https://forms.office.com/pages/responsepage.aspx?id=m7tLEPL98Eaf97
 jpAaEexcGUFyt3-69Eq69bDRp8Q1lUOEQ4MDFWVTdGWFNUQUhBR1RCMk9DQ0tVRC4u&route=s
 horturl
END:VEVENT
BEGIN:VTIMEZONE
TZID:Europe/Madrid
X-LIC-LOCATION:Europe/Madrid
BEGIN:STANDARD
DTSTART:20251026T020000
TZOFFSETFROM:+0200
TZOFFSETTO:+0100
TZNAME:CET
END:STANDARD
END:VTIMEZONE
END:VCALENDAR