BEGIN:VCALENDAR
VERSION:2.0
PRODID:-//wp-events-plugin.com//7.2.3.1//EN
TZID:Europe/Madrid
X-WR-TIMEZONE:Europe/Madrid
BEGIN:VEVENT
UID:585@aragonsolidario.org
DTSTART;TZID=Europe/Madrid:20260317T183000
DTEND;TZID=Europe/Madrid:20260317T200000
DTSTAMP:20260313T082135Z
URL:https://aragonsolidario.org/eventos/mst-42-anos-zaragoza
SUMMARY:MST\, 42 años conquistando tierra para la reforma agraria popular.
  Zaragoza
DESCRIPTION:El Comité de Solidaridad Internacionalista organiza en Zaragoz
 a la charla y debate “MST\, 42 años conquistando tierra para la reforma
  agraria popular”\, un espacio para acercarse a la experiencia del Movim
 iento de los Trabajadores Rurales Sin Tierra de Brasil y compartir una ref
 lexión sobre la agroecología\, la lucha por la tierra y las alternativas
  campesinas. La actividad contará con la participación de Michelle Neves
 \, de la Coordinación Nacional del MST\, y se celebrará el martes 17 de 
 marzo a las 18:30 horas en el Centro Joaquín Roncal\, en la calle San Bra
 ulio 5-7 de Zaragoza.\n\n
ATTACH;FMTTYPE=image/jpeg:https://aragonsolidario.org/wp-content/uploads/2
 026/03/mstZGZ.webp
CATEGORIES:ONGD FAS
LOCATION:Centro Joaquín Roncal\, C. de San Braulio\, 5\, Zaragoza\, 50003\
 , España
GEO:41.654686;-0.879386
X-APPLE-STRUCTURED-LOCATION;VALUE=URI;X-ADDRESS=C. de San Braulio\, 5\, Zar
 agoza\, 50003\, España;X-APPLE-RADIUS=100;X-TITLE=Centro Joaquín Roncal:
 geo:41.654686,-0.879386
END:VEVENT
BEGIN:VTIMEZONE
TZID:Europe/Madrid
X-LIC-LOCATION:Europe/Madrid
BEGIN:STANDARD
DTSTART:20251026T020000
TZOFFSETFROM:+0200
TZOFFSETTO:+0100
TZNAME:CET
END:STANDARD
END:VTIMEZONE
END:VCALENDAR