BEGIN:VCALENDAR
VERSION:2.0
PRODID:-//wp-events-plugin.com//7.2.3.1//EN
TZID:Europe/Madrid
X-WR-TIMEZONE:Europe/Madrid
BEGIN:VEVENT
UID:584@aragonsolidario.org
DTSTART;TZID=Europe/Madrid:20260318T160000
DTEND;TZID=Europe/Madrid:20260318T180000
DTSTAMP:20260313T081935Z
URL:https://aragonsolidario.org/eventos/mst-42-anos-huesca
SUMMARY:MST\, 42 años conquistando tierra para la reforma agraria popular
DESCRIPTION:El Comité de Solidaridad Internacionalista organiza en Huesca 
 la café tertulia “MST\, 42 años conquistando tierra para la reforma ag
 raria popular”\, un espacio para conocer la experiencia del Movimiento d
 e los Trabajadores Rurales Sin Tierra de Brasil y profundizar en el papel 
 de la agroecología\, la soberanía alimentaria y la defensa de la tierra 
 como herramientas de transformación social. La actividad contará con la 
 participación de Michelle Neves\, de la Coordinación Nacional del MST\, 
 y tendrá lugar el miércoles 18 de marzo a las 16:00 horas en CSA Boira P
 reta\, en la Avenida de la Paz\, 6.\n\n
ATTACH;FMTTYPE=image/jpeg:https://aragonsolidario.org/wp-content/uploads/2
 026/03/mstHUES.webp
CATEGORIES:ONGD FAS
LOCATION:CSA Boira Preta\, Av. de la Paz\, 6\, \, Huesca\, 22003 \, España
GEO:42.139348;-0.415637
X-APPLE-STRUCTURED-LOCATION;VALUE=URI;X-ADDRESS=Av. de la Paz\, 6\, \, Hues
 ca\, 22003 \, España;X-APPLE-RADIUS=100;X-TITLE=CSA Boira Preta:geo:42.13
 9348,-0.415637
END:VEVENT
BEGIN:VTIMEZONE
TZID:Europe/Madrid
X-LIC-LOCATION:Europe/Madrid
BEGIN:STANDARD
DTSTART:20251026T020000
TZOFFSETFROM:+0200
TZOFFSETTO:+0100
TZNAME:CET
END:STANDARD
END:VTIMEZONE
END:VCALENDAR