BEGIN:VCALENDAR
VERSION:2.0
PRODID:-//wp-events-plugin.com//7.2.3.1//EN
TZID:Europe/Madrid
X-WR-TIMEZONE:Europe/Madrid
BEGIN:VEVENT
UID:501@aragonsolidario.org
DTSTART;TZID=Europe/Madrid:20251022T180000
DTEND;TZID=Europe/Madrid:20251022T190000
DTSTAMP:20251015T141936Z
URL:https://aragonsolidario.org/eventos/merienda-tertulia-jovenes-sur
SUMMARY:Merienda-tertulia con jóvenes del Sur Global
DESCRIPTION:¿Te apetece conocer de cerca cómo el Comercio Justo transform
 a vidas? 💬☕\nEste miércoles 22 de octubre a las 18:00 h tendremos un
 a tertulia con Jenny Lemay (productora de quinoa en Ecuador) y Consuelo S
 ánchez (cooperativa de café y cacao en Perú). Plazas limitadas.\nInscri
 pción previa en comunicacion@aragonsolidario.org
ATTACH;FMTTYPE=image/jpeg:https://aragonsolidario.org/wp-content/uploads/2
 025/10/CARTEL-MERIENDA_page-0001.webp
CATEGORIES:FAS
LOCATION:Espacio entremujeres\, Cl. Mayor\, 6\, Zaragoza\, Zaragoza\, 50001
 \, España
GEO:41.653845;-0.877234
X-APPLE-STRUCTURED-LOCATION;VALUE=URI;X-ADDRESS=Cl. Mayor\, 6\, Zaragoza\, 
 Zaragoza\, 50001\, España;X-APPLE-RADIUS=100;X-TITLE=Espacio entremujeres
 :geo:41.653845,-0.877234
END:VEVENT
BEGIN:VTIMEZONE
TZID:Europe/Madrid
X-LIC-LOCATION:Europe/Madrid
BEGIN:DAYLIGHT
DTSTART:20250330T030000
TZOFFSETFROM:+0100
TZOFFSETTO:+0200
TZNAME:CEST
END:DAYLIGHT
END:VTIMEZONE
END:VCALENDAR