BEGIN:VCALENDAR
VERSION:2.0
PRODID:-//wp-events-plugin.com//7.2.3.1//EN
TZID:Europe/Madrid
X-WR-TIMEZONE:Europe/Madrid
BEGIN:VEVENT
UID:538@aragonsolidario.org
DTSTART;TZID=Europe/Madrid:20251210T100000
DTEND;TZID=Europe/Madrid:20251214T200000
DTSTAMP:20251118T154808Z
URL:https://aragonsolidario.org/eventos/merca-sol-masvida-25
SUMMARY:Mercadillo Solidario Más Vida
DESCRIPTION:
ATTACH;FMTTYPE=image/jpeg:https://aragonsolidario.org/wp-content/uploads/2
 025/11/Mercadillo-fechas-bajo-peso_page-0001-scaled.webp
CATEGORIES:ONGD FAS
LOCATION:Centro Cívico Delicias\, Av. de Navarra\, 54\, Zaragoza\, 50010\,
  España
GEO:41.655836;-0.906468
X-APPLE-STRUCTURED-LOCATION;VALUE=URI;X-ADDRESS=Av. de Navarra\, 54\, Zarag
 oza\, 50010\, España;X-APPLE-RADIUS=100;X-TITLE=Centro Cívico Delicias:g
 eo:41.655836,-0.906468
END:VEVENT
BEGIN:VTIMEZONE
TZID:Europe/Madrid
X-LIC-LOCATION:Europe/Madrid
BEGIN:STANDARD
DTSTART:20251026T020000
TZOFFSETFROM:+0200
TZOFFSETTO:+0100
TZNAME:CET
END:STANDARD
END:VTIMEZONE
END:VCALENDAR