BEGIN:VCALENDAR
VERSION:2.0
PRODID:-//wp-events-plugin.com//7.2.3.1//EN
TZID:Europe/Madrid
X-WR-TIMEZONE:Europe/Madrid
BEGIN:VEVENT
UID:532@aragonsolidario.org
DTSTART;TZID=Europe/Madrid:20251129T180000
DTEND;TZID=Europe/Madrid:20251129T200000
DTSTAMP:20251117T114835Z
URL:https://aragonsolidario.org/eventos/mani-palestina-29nov25
SUMMARY:Manifestación por Palestina
DESCRIPTION:El 29 de noviembre\, con motivo del Día Internacional de Solid
 aridad con el Pueblo Palestino\, diferentes colectivos convocamos una mani
 festación en Zaragoza para reclamar el fin de la violencia\, la defensa d
 e los derechos humanos y la garantía de libertad y justicia para la pobla
 ción palestina.El recorrido será a las 18:00 h\, desde la Glorieta Saser
 a hasta Plaza España.\n\n\n\n&nbsp\;
ATTACH;FMTTYPE=image/jpeg:https://aragonsolidario.org/wp-content/uploads/2
 025/11/7ad28dd7-17dc-4820-bbba-c4f4a611a0ed-1.webp
CATEGORIES:FAS
LOCATION:Glorieta Sasera\, Glorieta Sasera\, Zaragoza\, 50008\, España
GEO:41.645678;-0.885052
X-APPLE-STRUCTURED-LOCATION;VALUE=URI;X-ADDRESS=Glorieta Sasera\, Zaragoza\
 , 50008\, España;X-APPLE-RADIUS=100;X-TITLE=Glorieta Sasera:geo:41.645678
 ,-0.885052
END:VEVENT
BEGIN:VTIMEZONE
TZID:Europe/Madrid
X-LIC-LOCATION:Europe/Madrid
BEGIN:STANDARD
DTSTART:20251026T020000
TZOFFSETFROM:+0200
TZOFFSETTO:+0100
TZNAME:CET
END:STANDARD
END:VTIMEZONE
END:VCALENDAR