BEGIN:VCALENDAR
VERSION:2.0
PRODID:-//wp-events-plugin.com//7.2.3.1//EN
TZID:Europe/Madrid
X-WR-TIMEZONE:Europe/Madrid
BEGIN:VEVENT
UID:583@aragonsolidario.org
DTSTART;TZID=Europe/Madrid:20260323T180000
DTEND;TZID=Europe/Madrid:20260323T200000
DTSTAMP:20260311T083658Z
URL:https://aragonsolidario.org/eventos/la-luz-de-todos-documental
SUMMARY:La Luz de Todos - Documental
DESCRIPTION:El Centro Joaquín Roncal acoge la sesión de cinefórum de IS
 F sobre soberanía energética. “Luz de todos” (lunes 23 de marzo de
  2026\, 18:00 h) presenta la experiencia de una comunidad en la frontera G
 uatemala-México que impulsa una central hidroeléctrica autogestionada co
 n apoyo cooperativo\, como alternativa para fortalecer la soberanía econ
 ómica y energética local.\n\n
ATTACH;FMTTYPE=image/jpeg:https://aragonsolidario.org/wp-content/uploads/2
 026/03/Documental-Luz-de-todos--scaled.webp
CATEGORIES:ONGD FAS
LOCATION:Centro Joaquín Roncal\, C. de San Braulio\, 5\, Zaragoza\, 50003\
 , España
GEO:41.654686;-0.879386
X-APPLE-STRUCTURED-LOCATION;VALUE=URI;X-ADDRESS=C. de San Braulio\, 5\, Zar
 agoza\, 50003\, España;X-APPLE-RADIUS=100;X-TITLE=Centro Joaquín Roncal:
 geo:41.654686,-0.879386
END:VEVENT
BEGIN:VTIMEZONE
TZID:Europe/Madrid
X-LIC-LOCATION:Europe/Madrid
BEGIN:STANDARD
DTSTART:20251026T020000
TZOFFSETFROM:+0200
TZOFFSETTO:+0100
TZNAME:CET
END:STANDARD
END:VTIMEZONE
END:VCALENDAR