BEGIN:VCALENDAR
VERSION:2.0
PRODID:-//wp-events-plugin.com//7.2.3.1//EN
TZID:Europe/Madrid
X-WR-TIMEZONE:Europe/Madrid
BEGIN:VEVENT
UID:531@aragonsolidario.org
DTSTART;TZID=Europe/Madrid;VALUE=DATE:20251121
DTEND;TZID=Europe/Madrid;VALUE=DATE:20251122
DTSTAMP:20251117T101704Z
URL:https://aragonsolidario.org/eventos/kafe-touba-chema-caballero
SUMMARY:Un "Kafe Touba" con Chema Caballero
DESCRIPTION:La ciudad de Huesca celebrará el jueves 21 de noviembre una do
 ble cita cultural y solidaria en torno a la trayectoria del jurista y expe
 rto en derechos humanos Chema Caballero\, quien lleva más de treinta año
 s trabajando en distintos países africanos. La jornada\, organizada por C
 C.ONG Ayuda al Desarrollo\, combinará diálogo\, literatura y sensibiliza
 ción sobre las realidades del continente.\nLa programación comenzará a 
 las 17:00 h en el Casino de Huesca con un Kafe Touba\, un encuentro inform
 al en el que el autor conversará sobre su libro El bebedor de cerveza. 30
  años recorriendo los caminos de África. El espacio incluirá una degust
 ación de café\, té y repostería de Senegal\, ofrecida por la asociaci
 ón de mujeres Manos de África\, así como la inauguración de la exposic
 ión fotográfica “Mujeres que inspiran”.\nA las 19:00 h\, la Librerí
 a Santos Ochoa acogerá la presentación oficial del libro y un coloquio a
 bierto con el autor. Durante el acto se repasará la amplia trayectoria de
  Caballero en programas de derechos humanos\, rehabilitación de menores a
 fectados por conflictos armados y desarrollo comunitario\, así como su la
 bor actual como consultor\, docente y colaborador en medios especializados
 . También se destacará su contribución a la difusión de literaturas af
 ricanas como fundador de la colección Libros del Baobab.\nEl encuentro se
 rá moderado por Ana Fuertes\, responsable de proyectos en África con CC.
 ONG\, y Teresa López\, periodista y cooperante en Etiopía con Entarachen
 –Bosco Global.\n
ATTACH;FMTTYPE=image/jpeg:https://aragonsolidario.org/wp-content/uploads/2
 025/11/PRESENTACIONCHEMA21NDEF.webp
CATEGORIES:ONGD FAS
LOCATION:Librería Santos Ochoa\, C. Zaragoza\, 12\, Huesca\, 22002\, Espa
 ña
GEO:42.135406;-0.409916
X-APPLE-STRUCTURED-LOCATION;VALUE=URI;X-ADDRESS=C. Zaragoza\, 12\, Huesca\,
  22002\, España;X-APPLE-RADIUS=100;X-TITLE=Librería Santos Ochoa:geo:42.
 135406,-0.409916
END:VEVENT
BEGIN:VTIMEZONE
TZID:Europe/Madrid
X-LIC-LOCATION:Europe/Madrid
BEGIN:STANDARD
DTSTART:20251026T020000
TZOFFSETFROM:+0200
TZOFFSETTO:+0100
TZNAME:CET
END:STANDARD
END:VTIMEZONE
END:VCALENDAR