BEGIN:VCALENDAR
VERSION:2.0
PRODID:-//wp-events-plugin.com//7.2.3.1//EN
TZID:Europe/Madrid
X-WR-TIMEZONE:Europe/Madrid
BEGIN:VEVENT
UID:539@aragonsolidario.org
DTSTART;TZID=Europe/Madrid:20251127T173000
DTEND;TZID=Europe/Madrid:20251127T193000
DTSTAMP:20251119T152304Z
URL:https://aragonsolidario.org/eventos/jornadas-discarauis-25
SUMMARY:I Jornadas Discarauis
DESCRIPTION:LEFRIG organiza las I Jornadas Discarauis\, que se celebrarán 
 el 27 de noviembre de 2025 a las 17:30 h en el Edificio Josemi Monserrate 
 (Fundación DFA\, Zaragoza)\, con acceso libre. El encuentro ofrecerá un 
 espacio para conocer experiencias directas en los campamentos de població
 n refugiada saharaui y profundizar en el trabajo de voluntariado del Proye
 cto Talha\, activo desde 2017. A través de testimonios y aprendizaje comp
 artido\, la jornada busca acercar la realidad saharaui y fomentar el compr
 omiso con los derechos humanos y la solidaridad internacional.\n\n
ATTACH;FMTTYPE=image/jpeg:https://aragonsolidario.org/wp-content/uploads/2
 025/11/Carteles-GEAR-UP-5.webp
CATEGORIES:ONGD FAS
LOCATION:Edificio Josemi Monserrate (Fundación DFA)\, C. de Jesús Gracia\
 , 1\, Zaragoza\, 50014 \, España
GEO:41.657592;-0.856084
X-APPLE-STRUCTURED-LOCATION;VALUE=URI;X-ADDRESS=C. de Jesús Gracia\, 1\, Z
 aragoza\, 50014 \, España;X-APPLE-RADIUS=100;X-TITLE=Edificio Josemi Mons
 errate (Fundación DFA):geo:41.657592,-0.856084
END:VEVENT
BEGIN:VTIMEZONE
TZID:Europe/Madrid
X-LIC-LOCATION:Europe/Madrid
BEGIN:STANDARD
DTSTART:20251026T020000
TZOFFSETFROM:+0200
TZOFFSETTO:+0100
TZNAME:CET
END:STANDARD
END:VTIMEZONE
END:VCALENDAR