BEGIN:VCALENDAR
VERSION:2.0
PRODID:-//wp-events-plugin.com//7.2.3.1//EN
TZID:Europe/Madrid
X-WR-TIMEZONE:Europe/Madrid
BEGIN:VEVENT
UID:561@aragonsolidario.org
DTSTART;TZID=Europe/Madrid;VALUE=DATE:20260122
DTEND;TZID=Europe/Madrid;VALUE=DATE:20260124
DTSTAMP:20260116T113227Z
URL:https://aragonsolidario.org/eventos/jornadas-contexto-y-accion-26
SUMMARY:Jornadas Internacionales Contexto y Acción “Ideas para combatir 
 el Odio”
DESCRIPTION:Las Jornadas tendrán lugar en varios espacio\, revisar program
 a para conocer lugar y hora.\n\n\n
ATTACH;FMTTYPE=image/jpeg:https://aragonsolidario.org/wp-content/uploads/2
 026/01/616427064_17894338041388740_8831400250655123856_n.webp
CATEGORIES:Otras entidades
LOCATION:Paraninfo de la Universidad de Zaragoza\, Pza. Basilio Paraíso\, 
 4 \, Zaragoza\, Zaragoza\, 50005\, España
GEO:41.647195;-0.886521
X-APPLE-STRUCTURED-LOCATION;VALUE=URI;X-ADDRESS=Pza. Basilio Paraíso\, 4 \
 , Zaragoza\, Zaragoza\, 50005\, España;X-APPLE-RADIUS=100;X-TITLE=Paranin
 fo de la Universidad de Zaragoza:geo:41.647195,-0.886521
END:VEVENT
BEGIN:VTIMEZONE
TZID:Europe/Madrid
X-LIC-LOCATION:Europe/Madrid
BEGIN:STANDARD
DTSTART:20251026T020000
TZOFFSETFROM:+0200
TZOFFSETTO:+0100
TZNAME:CET
END:STANDARD
END:VTIMEZONE
END:VCALENDAR