BEGIN:VCALENDAR
VERSION:2.0
PRODID:-//wp-events-plugin.com//7.2.3.1//EN
TZID:Europe/Madrid
X-WR-TIMEZONE:Europe/Madrid
BEGIN:VEVENT
UID:600@aragonsolidario.org
DTSTART;TZID=Europe/Madrid:20260508T190000
DTEND;TZID=Europe/Madrid:20260508T203000
DTSTAMP:20260420T105814Z
URL:https://aragonsolidario.org/eventos/instantes-danza-8m
SUMMARY:Instantes de Danza 8 de Mayo
DESCRIPTION:El X Ciclo Moncayo presenta “Instantes de danza”\, un espec
 táculo solidario compuesto por tres piezas de danza contemporánea que ab
 orda temas como la migración\, la comunicación y el paso a la vida adult
 a. Una propuesta sensible y cercana que combina distintos lenguajes escén
 icos. Los beneficios se destinarán al programa de becas de Estudios supe
 riores y universitarios con jóvenes en situación de pobreza que Estrell
 a de la Mañana lleva a cabo en zonas rurales del sur de la India.\n\n\n\n
 &nbsp\;
ATTACH;FMTTYPE=image/jpeg:https://aragonsolidario.org/wp-content/uploads/2
 026/04/8-MAYO-2026-CARTEL-scaled.webp
CATEGORIES:ONGD FAS
LOCATION:Caja Rural de Aragón\, C. del Coso\, 29\, Zaragoza\, 50003 \, Esp
 aña
GEO:41.653035;-0.881256
X-APPLE-STRUCTURED-LOCATION;VALUE=URI;X-ADDRESS=C. del Coso\, 29\, Zaragoza
 \, 50003 \, España;X-APPLE-RADIUS=100;X-TITLE=Caja Rural de Aragón:geo:4
 1.653035,-0.881256
END:VEVENT
BEGIN:VTIMEZONE
TZID:Europe/Madrid
X-LIC-LOCATION:Europe/Madrid
BEGIN:DAYLIGHT
DTSTART:20260329T030000
TZOFFSETFROM:+0100
TZOFFSETTO:+0200
TZNAME:CEST
END:DAYLIGHT
END:VTIMEZONE
END:VCALENDAR