BEGIN:VCALENDAR
VERSION:2.0
PRODID:-//wp-events-plugin.com//7.2.3.1//EN
TZID:Europe/Madrid
X-WR-TIMEZONE:Europe/Madrid
BEGIN:VEVENT
UID:524@aragonsolidario.org
DTSTART;TZID=Europe/Madrid;VALUE=DATE:20251110
DTEND;TZID=Europe/Madrid;VALUE=DATE:20251121
DTSTAMP:20251103T121026Z
URL:https://aragonsolidario.org/eventos/inscripciones-abiertas-12-lunas-ot
 ono-25
SUMMARY:Inscripciones abiertas para actividades de Diciembre del Programa 1
 2 Lunas Otoño 2025
DESCRIPTION:Los jóvenes de Zaragoza entre 14 y 30 años pueden inscribirse
  entre el 10 y el 20 de noviembre a las actividades gratuitas de "Globalí
 zate: Cooperación Internacional" con propuestas como masterclass de ritmo
 s latinos\, escape room sobre ODS y taller de fabricación de velas.\n\nEn
 lace: https://unaqui.aragonsolidario.org/12-lunas-otono-2025/
ATTACH;FMTTYPE=image/jpeg:https://aragonsolidario.org/wp-content/uploads/2
 025/11/Portada-12lunas-otono25.webp
CATEGORIES:FAS
LOCATION:https://unaqui.aragonsolidario.org/12-lunas-otono-2025/
END:VEVENT
BEGIN:VTIMEZONE
TZID:Europe/Madrid
X-LIC-LOCATION:Europe/Madrid
BEGIN:STANDARD
DTSTART:20251026T020000
TZOFFSETFROM:+0200
TZOFFSETTO:+0100
TZNAME:CET
END:STANDARD
END:VTIMEZONE
END:VCALENDAR