BEGIN:VCALENDAR
VERSION:2.0
PRODID:-//wp-events-plugin.com//7.2.3.1//EN
TZID:Europe/Madrid
X-WR-TIMEZONE:Europe/Madrid
BEGIN:VEVENT
UID:33@aragonsolidario.org
DTSTART;TZID=Europe/Madrid:20230220T180000
DTEND;TZID=Europe/Madrid:20230220T200000
DTSTAMP:20230213T111641Z
URL:https://aragonsolidario.org/eventos/informe-sahara-occidental
SUMMARY:Informe Sáhara Occidental un desierto para el periodismo
DESCRIPTION:Dentro del ciclo "Sáhara Occidental\, periodismo por los derec
 hos humanos" el Colectivo Lefrig organiza en los próximos días varias ac
 tividades en el Salón de Actos María Moliner de la Universidad de Zarago
 za a las 18 horas.\n\nLunes 20 de febrero: Presentación Informe "Sáhara 
 Occidental\, un desierto para el periodismo" con Edith R. Cacher.\n\n&nbsp
 \;
ATTACH;FMTTYPE=image/jpeg:https://aragonsolidario.org/wp-content/uploads/2
 023/02/A3_PeriodismoLEFRIG_RRSS-1-scaled.webp
CATEGORIES:ONGD FAS
LOCATION:Salón de Actos María Moliner de la Universidad de Zaragoza\,  C/
  Pedro Cerbuna\, 12 \, Zaragoza\, Zaragoza\, 50009\, España
GEO:41.639871;-0.89825
X-APPLE-STRUCTURED-LOCATION;VALUE=URI;X-ADDRESS= C/ Pedro Cerbuna\, 12 \, Z
 aragoza\, Zaragoza\, 50009\, España;X-APPLE-RADIUS=100;X-TITLE=Salón de 
 Actos María Moliner de la Universidad de Zaragoza:geo:41.639871,-0.89825
END:VEVENT
BEGIN:VTIMEZONE
TZID:Europe/Madrid
X-LIC-LOCATION:Europe/Madrid
BEGIN:STANDARD
DTSTART:20221030T020000
TZOFFSETFROM:+0200
TZOFFSETTO:+0100
TZNAME:CET
END:STANDARD
END:VTIMEZONE
END:VCALENDAR