BEGIN:VCALENDAR
VERSION:2.0
PRODID:-//wp-events-plugin.com//7.2.3.1//EN
TZID:Europe/Madrid
X-WR-TIMEZONE:Europe/Madrid
BEGIN:VEVENT
UID:514@aragonsolidario.org
DTSTART;TZID=Europe/Madrid;VALUE=DATE:20251103
DTEND;TZID=Europe/Madrid;VALUE=DATE:20251107
DTSTAMP:20251103T092920Z
URL:https://aragonsolidario.org/eventos/informe-2-vivir-desigualdad-25
SUMMARY:Informe “Vivir la Desigualdad”\, por Oxfam Intermón.
DESCRIPTION:Oxfam Intermon lanza el informe “Vivir la Desigualdad”\, se
 gunda encuesta a más de 4.000 personas sobre desigualdades múltiples en 
 España para conocer cómo la ciudadanía percibe y experimenta la desigua
 ldad en su día a día.
ATTACH;FMTTYPE=image/jpeg:https://aragonsolidario.org/wp-content/uploads/2
 025/11/informe-oxfam.webp
CATEGORIES:ONGD FAS
LOCATION:https://www.oxfamintermon.org/es/encuesta-vivir-desigualdad
END:VEVENT
BEGIN:VTIMEZONE
TZID:Europe/Madrid
X-LIC-LOCATION:Europe/Madrid
BEGIN:STANDARD
DTSTART:20251026T020000
TZOFFSETFROM:+0200
TZOFFSETTO:+0100
TZNAME:CET
END:STANDARD
END:VTIMEZONE
END:VCALENDAR