BEGIN:VCALENDAR
VERSION:2.0
PRODID:-//wp-events-plugin.com//7.2.3.1//EN
TZID:Europe/Madrid
X-WR-TIMEZONE:Europe/Madrid
BEGIN:VEVENT
UID:289@aragonsolidario.org
DTSTART;TZID=Europe/Madrid:20240521T093000
DTEND;TZID=Europe/Madrid:20240521T133000
DTSTAMP:20240503T110839Z
URL:https://aragonsolidario.org/eventos/iii-jornada-diversity
SUMMARY:III Jornada Diversity
DESCRIPTION:La Fundación San Ezequiel Moreno organiza esta jornada.\nPonen
 cia principal:\nEducación y diversidad cultural. Una reflexión desde los
  márgenes del sistema educativo.\nPonente: Daniel García Concet. Pedagog
 o interesado en los procesos de exclusión educativa y  profesor del Depa
 rtamento de Ciencias de la Educación de la Universidad de Zaragoza.\n\nEx
 periencias:\n\n\n 	Curso de formación continua “Trabajo Social y Pueblo
  Gitano" en la Facultad de Ciencias Sociales y del Trabajo de la Universi
 dad de Zaragoza.\n 	Presenta: José Francisco Rodríguez Giménez\, codire
 ctor de la formación y trabajador social en la Asociación de Promoción
  Gitana de Zaragoza.\n\n\n 	Lab Kulturika\n 	Presentan: Ariadna Herrero (D
 irectora de Comunicación y Educación) y Kat Andreeva (Directora Creativa
  y Estrategia) de Kamusa.\n\n\n\n\n 	"Preparación exámenes de nacional
 idad y competencias pre-laborales para personas no alfabetizadas en el pa
 ís de origen".\n 	Presentan: Isabel Meléndez\, Trabajadora Social del Ce
 ntro Municipal Tramalena y Diana García\, Orientadora Laboral del Program
 a de Empleo de Fundación el Tranvía.\n\n\n\n\n 	ARCAD!A TODO LO-CURA. U
 n caso práctico de intervención con personas con enfermedad mental grave
 .\n 	Presenta: Alex Pigem Sabrafen. Director Comunicación ARCAD!A.\n\n\n\
 n\n\n 	La jornada tendrá servicio de intérprete de Lengua de Signos Esp
 añola (LSE) proporcionado por ASZA.\n\n\n--à Inscripción Jornada Div
 ersity:  https://forms.office.com/e/6n6UU7s7rA?origin=lprLink
ATTACH;FMTTYPE=image/jpeg:https://aragonsolidario.org/wp-content/uploads/2
 024/05/tinywow_sanezejornada_54827565.webp
CATEGORIES:ONGD FAS
LOCATION:Centro Joaquín Roncal\, C. de San Braulio\, 5\, Zaragoza\, 50003\
 , España
GEO:41.654686;-0.879386
X-APPLE-STRUCTURED-LOCATION;VALUE=URI;X-ADDRESS=C. de San Braulio\, 5\, Zar
 agoza\, 50003\, España;X-APPLE-RADIUS=100;X-TITLE=Centro Joaquín Roncal:
 geo:41.654686,-0.879386
END:VEVENT
BEGIN:VTIMEZONE
TZID:Europe/Madrid
X-LIC-LOCATION:Europe/Madrid
BEGIN:DAYLIGHT
DTSTART:20240331T030000
TZOFFSETFROM:+0100
TZOFFSETTO:+0200
TZNAME:CEST
END:DAYLIGHT
END:VTIMEZONE
END:VCALENDAR