BEGIN:VCALENDAR
VERSION:2.0
PRODID:-//wp-events-plugin.com//7.2.3.1//EN
TZID:Europe/Madrid
X-WR-TIMEZONE:Europe/Madrid
BEGIN:VEVENT
UID:580@aragonsolidario.org
DTSTART;TZID=Europe/Madrid;VALUE=DATE:20260309
DTEND;TZID=Europe/Madrid;VALUE=DATE:20260315
DTSTAMP:20260226T152241Z
URL:https://aragonsolidario.org/eventos/hacer-cooperacion-africa-expo
SUMMARY:Hacer cooperación en África\, logros y dificultades EXPO FOTO
DESCRIPTION:\n\n\n\n\n\n\nEl Comité de Solidaridad Internacionalista organ
 iza la exposición fotográfica “Hacer cooperación en África: logros y
  dificultades”\, que podrá visitarse del 9 al 14 de marzo en la Asociac
 ión de Vecinas y Vecinos Puente Santiago–Actur (C/ Margarita Xirgu\, 2\
 , Zaragoza). La muestra invita a reflexionar\, a través de imágenes\, so
 bre los avances y los retos de la cooperación en el continente africano y
  se completa con una charla-debate el 11 de marzo a las 18:00 h\, con Pila
 r Ausens Ramo\, Carmen Ferrer Dufol (Asociación Malawi Salud) y Juan Carl
 os Burillo\, moderada por Alberto Andrés.\n\n\n\n\n\n\n\n\n
ATTACH;FMTTYPE=image/jpeg:https://aragonsolidario.org/wp-content/uploads/2
 026/02/coopafric26.webp
CATEGORIES:ONGD FAS
LOCATION:Asociación de vecinas y vecinos Puente Santiago Actur\, C. de Mar
 garita Xirgu\, 2\, Zaragoza\, 50018\, España
GEO:41.678404;-0.891297
X-APPLE-STRUCTURED-LOCATION;VALUE=URI;X-ADDRESS=C. de Margarita Xirgu\, 2\,
  Zaragoza\, 50018\, España;X-APPLE-RADIUS=100;X-TITLE=Asociación de veci
 nas y vecinos Puente Santiago Actur:geo:41.678404,-0.891297
END:VEVENT
BEGIN:VTIMEZONE
TZID:Europe/Madrid
X-LIC-LOCATION:Europe/Madrid
BEGIN:STANDARD
DTSTART:20251026T020000
TZOFFSETFROM:+0200
TZOFFSETTO:+0100
TZNAME:CET
END:STANDARD
END:VTIMEZONE
END:VCALENDAR