BEGIN:VCALENDAR
VERSION:2.0
PRODID:-//wp-events-plugin.com//7.2.3.1//EN
TZID:Europe/Madrid
X-WR-TIMEZONE:Europe/Madrid
BEGIN:VEVENT
UID:297@aragonsolidario.org
DTSTART;TZID=Europe/Madrid;VALUE=DATE:20240517
DTEND;TZID=Europe/Madrid;VALUE=DATE:20240526
DTSTAMP:20240513T074456Z
URL:https://aragonsolidario.org/eventos/flores-de-todo-el-mundo-2024
SUMMARY:Flores de todo el mundo - Haztecoop Huesca
DESCRIPTION:Diferentes entidades nos movilizamos en Huesca por la cooperaci
 ón al desarrollo y la solidaridad internacional con diversas actividades 
 a lo largo del mes de MAYO:\nEXPOSICIONES\nDe 18:30H A 21H. \, del 17 al 2
 5 DE MAYO\, en la Nave 4\, del Centro Cultural M. Benito Moliner. Visitas 
 de grupos concertadas por la mañana -de lunes a viernes- en el 606813659.
 \nLa historia tejida con hilos violeta \, de Acción Solidaria Aragonesa\n
 Empoderadas. Mujeres del Comercio Justo \, de Cáritas\nENCUENTROS \nA LAS
  19H. en la Nave 4 del Centro Cultural M. Benito Moliner.\n\n17 DE MAYO\, 
 VIERNES:\nCuarenta años de Historias de aprendizaje y Solidaridad en Hues
 ca. Con degustación de productos de Comercio Justo.\nBatuta: Servicio mun
 icipal de Cooperación y Cáritas Diocesana.\n\n20 DE MAYO\, LUNES:\nFeria
  de Materiales didácticos para la Educación para el Desarrollo y la Ciud
 adanía Global.\nBatuta: Federación Aragonesa de Solidaridad-UNAQUI\, YMC
 A Y Bosco Global.\n\n22 DE MAYO\, MIÉRCOLES:\nCosmética natural y Comerc
 io Justo vistos por Jordi Serena y EQUIMERCADO\, de Fundación ADSIS.\nBat
 uta: Cáritas Diocesana.\n\n23 DE MAYO\, JUEVES:\nConflictos olvidados vis
 tos por Sifro González\, Coordinador prov. de Cruz Roja.\nBatuta: Cruz Ro
 ja.\n\n24 DE MAYO\, VIERNES:\nCodesarrollo\, una historia que continúa es
 cribiéndose.\nBatuta: CCONG Ayuda al Desarrollo.\n\n\n\n&nbsp\;
ATTACH;FMTTYPE=image/jpeg:https://aragonsolidario.org/wp-content/uploads/2
 024/05/FLORESDETODOELMUNDO-2-copia.webp
CATEGORIES:FAS
LOCATION:Centro Cultural Manuel Benito Moliner\, Av. de Martínez de Velasc
 o\, 4\, Huesca\, 22005\, España
GEO:42.134988;-0.411565
X-APPLE-STRUCTURED-LOCATION;VALUE=URI;X-ADDRESS=Av. de Martínez de Velasco
 \, 4\, Huesca\, 22005\, España;X-APPLE-RADIUS=100;X-TITLE=Centro Cultural
  Manuel Benito Moliner:geo:42.134988,-0.411565
END:VEVENT
BEGIN:VTIMEZONE
TZID:Europe/Madrid
X-LIC-LOCATION:Europe/Madrid
BEGIN:DAYLIGHT
DTSTART:20240331T030000
TZOFFSETFROM:+0100
TZOFFSETTO:+0200
TZNAME:CEST
END:DAYLIGHT
END:VTIMEZONE
END:VCALENDAR