BEGIN:VCALENDAR
VERSION:2.0
PRODID:-//wp-events-plugin.com//7.2.3.1//EN
TZID:Europe/Madrid
X-WR-TIMEZONE:Europe/Madrid
BEGIN:VEVENT
UID:515@aragonsolidario.org
DTSTART;TZID=Europe/Madrid:20251107T180000
DTEND;TZID=Europe/Madrid:20251107T180000
DTSTAMP:20251103T090528Z
URL:https://aragonsolidario.org/eventos/flores-de-papel-25
SUMMARY:Presentación del libro Flores de Papel de Ebaba Hameida
DESCRIPTION:Presentación del libro Flores de Papel\, de la periodista Saha
 raui Ebaba Hameida. Organizado por Um Draiga y Cálamo.\n\nMás info: http
 s://www.asoc.umdraiga.com/presentacion-del-libro-flores-de-papel/
ATTACH;FMTTYPE=image/jpeg:https://aragonsolidario.org/wp-content/uploads/2
 025/11/presentacion_flores_de_papel.webp
CATEGORIES:ONGD FAS
LOCATION:Casa de la Mujer\, C. de Don Juan de Aragón\, 2\, Zaragoza\, 5000
 1\, España
GEO:41.653873;-0.876135
X-APPLE-STRUCTURED-LOCATION;VALUE=URI;X-ADDRESS=C. de Don Juan de Aragón\,
  2\, Zaragoza\, 50001\, España;X-APPLE-RADIUS=100;X-TITLE=Casa de la Muje
 r:geo:41.653873,-0.876135
END:VEVENT
BEGIN:VTIMEZONE
TZID:Europe/Madrid
X-LIC-LOCATION:Europe/Madrid
BEGIN:STANDARD
DTSTART:20251026T020000
TZOFFSETFROM:+0200
TZOFFSETTO:+0100
TZNAME:CET
END:STANDARD
END:VTIMEZONE
END:VCALENDAR