BEGIN:VCALENDAR
VERSION:2.0
PRODID:-//wp-events-plugin.com//7.2.3.1//EN
TZID:Europe/Madrid
X-WR-TIMEZONE:Europe/Madrid
BEGIN:VEVENT
UID:512@aragonsolidario.org
DTSTART;TZID=Europe/Madrid:20251114T180000
DTEND;TZID=Europe/Madrid:20251114T180000
DTSTAMP:20251103T083121Z
URL:https://aragonsolidario.org/eventos/fiesta-homenaje-50-anyos-medicus-m
 undi-aragon
SUMMARY:Fiesta homenaje a las personas que lo han hecho posible. 50 años d
 e Medicus Mundi en Aragón.
DESCRIPTION:Proyección de un vídeo conmemorativo y presentación de quien
 es lo han hecho posible a cargo de Mundinovi. Finalizará con una actuaci
 ón de la Big Band de la Asociación Musical Miralbueno y Swing &amp\; Co.
  Entrada libre hasta completar aforo\n\nMás info: https://lasaludunderech
 o.es/2025/10/31/cincuenta-anos-de-medicus-mundi-en-aragon/
ATTACH;FMTTYPE=image/jpeg:https://aragonsolidario.org/wp-content/uploads/2
 025/11/LOGO-50-aniv-ARA-scaled.webp
CATEGORIES:ONGD FAS
LOCATION:Centro Cívico Delicias\, Av. de Navarra\, 54\, Zaragoza\, 50010\,
  España
GEO:41.655836;-0.906468
X-APPLE-STRUCTURED-LOCATION;VALUE=URI;X-ADDRESS=Av. de Navarra\, 54\, Zarag
 oza\, 50010\, España;X-APPLE-RADIUS=100;X-TITLE=Centro Cívico Delicias:g
 eo:41.655836,-0.906468
END:VEVENT
BEGIN:VTIMEZONE
TZID:Europe/Madrid
X-LIC-LOCATION:Europe/Madrid
BEGIN:STANDARD
DTSTART:20251026T020000
TZOFFSETFROM:+0200
TZOFFSETTO:+0100
TZNAME:CET
END:STANDARD
END:VTIMEZONE
END:VCALENDAR