BEGIN:VCALENDAR
VERSION:2.0
PRODID:-//wp-events-plugin.com//7.2.3.1//EN
TZID:Europe/Madrid
X-WR-TIMEZONE:Europe/Madrid
BEGIN:VEVENT
UID:559@aragonsolidario.org
DTSTART;TZID=Europe/Madrid:20260126T183000
DTEND;TZID=Europe/Madrid:20260126T203000
DTSTAMP:20260107T131446Z
URL:https://aragonsolidario.org/eventos/festival-danza-estrella-manana-26
SUMMARY:Festival de Danza Solidario - Estrella de la Mañana
DESCRIPTION:El arte urbano\, contemporáneo y el clásico se juntan en un e
 spectáculo para todos los públicos. Los artistas de Estudio 12 participa
 n en una gala que tiene un gran objetivo: recaudar dinero para la Asociaci
 ón Estrella de la Mañana\,\n\nDURACIÓN APROX. 120 MIN.\n\nPÚBLICO RECO
 MENDADO: TODOS\n\nFunciones: Lunes\, 26 de enero de 2026 a las 18.30 horas
 \n\nPrecio entradas 10€\n\nVenta de entradas: A partir del 27 de diciemb
 re del 2025\n\nComprar entradas en TAQUILLA De Miércoles a Sábado desde 
 las 18 hasta las 20 horas en el exterior del Teatro. Domingos y festivos u
 na hora antes del comienzo de la función.
ATTACH;FMTTYPE=image/jpeg:https://aragonsolidario.org/wp-content/uploads/2
 026/01/PHOTO-2025-12-03-09-08-21.webp
CATEGORIES:ONGD FAS
LOCATION:Teatro de las Esquinas\, Vía Univérsitas 30-32\, Zaragoza\, 5001
 7\, España
GEO:41.647015;-0.90774
X-APPLE-STRUCTURED-LOCATION;VALUE=URI;X-ADDRESS=Vía Univérsitas 30-32\, Z
 aragoza\, 50017\, España;X-APPLE-RADIUS=100;X-TITLE=Teatro de las Esquina
 s:geo:41.647015,-0.90774
END:VEVENT
BEGIN:VTIMEZONE
TZID:Europe/Madrid
X-LIC-LOCATION:Europe/Madrid
BEGIN:STANDARD
DTSTART:20251026T020000
TZOFFSETFROM:+0200
TZOFFSETTO:+0100
TZNAME:CET
END:STANDARD
END:VTIMEZONE
END:VCALENDAR