BEGIN:VCALENDAR
VERSION:2.0
PRODID:-//wp-events-plugin.com//7.2.3.1//EN
TZID:Europe/Madrid
X-WR-TIMEZONE:Europe/Madrid
BEGIN:VEVENT
UID:551@aragonsolidario.org
DTSTART;TZID=Europe/Madrid;VALUE=DATE:20251211
DTEND;TZID=Europe/Madrid;VALUE=DATE:20251215
DTSTAMP:20251209T114027Z
URL:https://aragonsolidario.org/eventos/feria-caritas-dic25
SUMMARY:Feria de Consumo Responsable
DESCRIPTION:\n\n\n\n\n\n\nLa Feria de Consumo Responsable de Cáritas Dioce
 sana de Zaragoza se celebra del 11 al 14 de diciembre en la Casa de la Igl
 esia\, un espacio donde encontrar productos de comercio justo de cooperati
 vas acompañadas por Cáritas y juguetes rehabilitados elaborados en el ta
 ller del CRPS San Carlos. Una propuesta para apostar por una economía má
 s justa y solidaria en estas fechas.\n\n\n\n\n\n\n\n\n\n\n\n\n
ATTACH;FMTTYPE=image/jpeg:https://aragonsolidario.org/wp-content/uploads/2
 025/12/202512_cartel_feria_consumo_responsable_reducido_page-0001.webp
CATEGORIES:ONGD FAS
LOCATION:Casa de la Iglesia\, Pl. de la Seo\, 6\, Zaragoza\, 50001\, Españ
 a
GEO:41.655801;-0.876042
X-APPLE-STRUCTURED-LOCATION;VALUE=URI;X-ADDRESS=Pl. de la Seo\, 6\, Zaragoz
 a\, 50001\, España;X-APPLE-RADIUS=100;X-TITLE=Casa de la Iglesia:geo:41.6
 55801,-0.876042
END:VEVENT
BEGIN:VTIMEZONE
TZID:Europe/Madrid
X-LIC-LOCATION:Europe/Madrid
BEGIN:STANDARD
DTSTART:20251026T020000
TZOFFSETFROM:+0200
TZOFFSETTO:+0100
TZNAME:CET
END:STANDARD
END:VTIMEZONE
END:VCALENDAR