BEGIN:VCALENDAR
VERSION:2.0
PRODID:-//wp-events-plugin.com//7.2.3.1//EN
TZID:Europe/Madrid
X-WR-TIMEZONE:Europe/Madrid
BEGIN:VEVENT
UID:569@aragonsolidario.org
DTSTART;TZID=Europe/Madrid:20260211T180000
DTEND;TZID=Europe/Madrid:20260211T190000
DTSTAMP:20260203T112301Z
URL:https://aragonsolidario.org/eventos/factura-luz-11feb
SUMMARY:Entendiendo la factura de la luz
DESCRIPTION:Ingeniería Sin Fronteras organiza la charla “Entendiendo la 
 factura de la luz”\, una sesión práctica para comprender mejor cómo f
 unciona el sistema energético en España y qué hay detrás del precio de
  la electricidad. Tendrá lugar el miércoles 11 de febrero de 2026\, a la
 s 18:00 h\, en el Centro Social Librería Pantera Rossa (Zaragoza)\, con e
 ntrada libre. Se abordará la pobreza energética —presente en más de t
 res millones de hogares en España—\, sus causas y consecuencias\, y se 
 compartirán medidas y herramientas para reducir su impacto en el hogar\, 
 además de alternativas y respuestas a nivel individual\, colectivo y esta
 tal. Se recomienda traer una factura de luz para seguir mejor las explicac
 iones.\n\n&nbsp\;\n\n
ATTACH;FMTTYPE=image/jpeg:https://aragonsolidario.org/wp-content/uploads/2
 026/02/Charla-Pantera-Rossa-110226.webp
CATEGORIES:ONGD FAS
LOCATION:CSL La Pantera Rossa\, C. de San Vicente de Paúl\, 28\, local\, Z
 aragoza\, Zaragoza\, 50003\, España
GEO:41.653083;-0.874999
X-APPLE-STRUCTURED-LOCATION;VALUE=URI;X-ADDRESS=C. de San Vicente de Paúl\
 , 28\, local\, Zaragoza\, Zaragoza\, 50003\, España;X-APPLE-RADIUS=100;X-
 TITLE=CSL La Pantera Rossa:geo:41.653083,-0.874999
END:VEVENT
BEGIN:VTIMEZONE
TZID:Europe/Madrid
X-LIC-LOCATION:Europe/Madrid
BEGIN:STANDARD
DTSTART:20251026T020000
TZOFFSETFROM:+0200
TZOFFSETTO:+0100
TZNAME:CET
END:STANDARD
END:VTIMEZONE
END:VCALENDAR