BEGIN:VCALENDAR
VERSION:2.0
PRODID:-//wp-events-plugin.com//7.2.3.1//EN
TZID:Europe/Madrid
X-WR-TIMEZONE:Europe/Madrid
BEGIN:VEVENT
UID:103@aragonsolidario.org
DTSTART;TZID=Europe/Madrid;VALUE=DATE:20230508
DTEND;TZID=Europe/Madrid;VALUE=DATE:20230522
DTSTAMP:20230508T121949Z
URL:https://aragonsolidario.org/eventos/exposicion-mujeres-del-sur-en-casa
 blanca
SUMMARY:Exposición Mujeres del Sur en Casablanca
DESCRIPTION:"La exposición Mujeres del Sur\, Visibilizando para transforma
 r" de la Fundación Familias Unidas en colaboración con la Asociación de
  Trabajadoras del Hogar y los Cuidados de Zaragoza termina su recorrido po
 r los Centros Cívicos y los Centros de Mayores de Zaragoza con la finalid
 ad de sensibilizar a la población adulta de la ciudad de la importancia d
 el trabajo del hogar y los cuidados y el valor de las personas que lo real
 izamos. Puedes visitarla en el Centro Cívico Casablanca en la Calle Viñe
 do Viejo 1\, 50009 Zaragoza\, del 8 al 21 de mayo"\n\nMás información AQ
 UÍ
ATTACH;FMTTYPE=image/jpeg:https://aragonsolidario.org/wp-content/uploads/2
 023/05/Cartel-exposicion-Mujeres-del-SurMAY.webp
CATEGORIES:ONGD FAS
LOCATION:Centro Cívico Isaac Valero Casablanca\, C. Viñedo Viejo\, 1\, Za
 ragoza\, Zaragoza\, 50009\, España
GEO:41.631927;-0.911447
X-APPLE-STRUCTURED-LOCATION;VALUE=URI;X-ADDRESS=C. Viñedo Viejo\, 1\, Zara
 goza\, Zaragoza\, 50009\, España;X-APPLE-RADIUS=100;X-TITLE=Centro Cívic
 o Isaac Valero Casablanca:geo:41.631927,-0.911447
END:VEVENT
BEGIN:VTIMEZONE
TZID:Europe/Madrid
X-LIC-LOCATION:Europe/Madrid
BEGIN:DAYLIGHT
DTSTART:20230326T030000
TZOFFSETFROM:+0100
TZOFFSETTO:+0200
TZNAME:CEST
END:DAYLIGHT
END:VTIMEZONE
END:VCALENDAR