BEGIN:VCALENDAR
VERSION:2.0
PRODID:-//wp-events-plugin.com//7.2.3.1//EN
TZID:Europe/Madrid
X-WR-TIMEZONE:Europe/Madrid
BEGIN:VEVENT
UID:383@aragonsolidario.org
DTSTART;TZID=Europe/Madrid;VALUE=DATE:20250107
DTEND;TZID=Europe/Madrid;VALUE=DATE:20250207
DTSTAMP:20250107T103817Z
URL:https://aragonsolidario.org/eventos/exposicion-migrar-derecho-huesca
SUMMARY:Exposición Migrar Es Un Derecho en Huesca
DESCRIPTION:
ATTACH;FMTTYPE=image/jpeg:https://aragonsolidario.org/wp-content/uploads/2
 024/12/Cartel_exposicion_Huesca-4-copia.webp
CATEGORIES:FAS
LOCATION:Espacio Rosa Luxemburgo\, C. Cavia\, Mariano\, 5\, Huesca\, 22005\
 , España
GEO:42.134881;-0.409586
X-APPLE-STRUCTURED-LOCATION;VALUE=URI;X-ADDRESS=C. Cavia\, Mariano\, 5\, Hu
 esca\, 22005\, España;X-APPLE-RADIUS=100;X-TITLE=Espacio Rosa Luxemburgo:
 geo:42.134881,-0.409586
END:VEVENT
BEGIN:VTIMEZONE
TZID:Europe/Madrid
X-LIC-LOCATION:Europe/Madrid
BEGIN:STANDARD
DTSTART:20241027T020000
TZOFFSETFROM:+0200
TZOFFSETTO:+0100
TZNAME:CET
END:STANDARD
END:VTIMEZONE
END:VCALENDAR