BEGIN:VCALENDAR
VERSION:2.0
PRODID:-//wp-events-plugin.com//7.2.3.1//EN
TZID:Europe/Madrid
X-WR-TIMEZONE:Europe/Madrid
BEGIN:VEVENT
UID:90@aragonsolidario.org
DTSTART;TZID=Europe/Madrid;VALUE=DATE:20230420
DTEND;TZID=Europe/Madrid;VALUE=DATE:20230520
DTSTAMP:20230426T101730Z
URL:https://aragonsolidario.org/eventos/exposicion-hilos-violeta-mujeres-v
 alientes
SUMMARY:Exposición “La historia tejida con hilos violeta: Mujeres valien
 tes y comprometidas”.
DESCRIPTION:ASA\, Acción Solidaria Aragonesa ha organizado la exposición 
 “La historia tejida con hilos violeta: Mujeres valientes y comprometidas
 ”.\n\nEsta muestra es una invitación a reflexionar sobre nuestra socied
 ad\, nuestros valores y nuestras actitudes al mismo tiempo que pretende co
 mo dar a conocer las aportaciones\, a la historia\, realizadas por numeros
 as mujeres\, muchas de las cuales apenas conocemos. El objetivo de ASA es 
 motivar el pensamiento crítico y favorecer la sensibilización sobre este
  tema\, para animar al compromiso personal de cada uno/a.\n\n&nbsp\;
ATTACH;FMTTYPE=image/jpeg:https://aragonsolidario.org/wp-content/uploads/2
 023/04/IMG-20230425-WA0006.webp
CATEGORIES:ONGD FAS
LOCATION:Centro socio cultural San Julián\, Ctra. San Julián\, 14\, Terue
 l\, 44003 \, España
GEO:40.339157;-1.106009
X-APPLE-STRUCTURED-LOCATION;VALUE=URI;X-ADDRESS=Ctra. San Julián\, 14\, Te
 ruel\, 44003 \, España;X-APPLE-RADIUS=100;X-TITLE=Centro socio cultural S
 an Julián:geo:40.339157,-1.106009
END:VEVENT
BEGIN:VTIMEZONE
TZID:Europe/Madrid
X-LIC-LOCATION:Europe/Madrid
BEGIN:DAYLIGHT
DTSTART:20230326T030000
TZOFFSETFROM:+0100
TZOFFSETTO:+0200
TZNAME:CEST
END:DAYLIGHT
END:VTIMEZONE
END:VCALENDAR