BEGIN:VCALENDAR
VERSION:2.0
PRODID:-//wp-events-plugin.com//7.2.3.1//EN
TZID:Europe/Madrid
X-WR-TIMEZONE:Europe/Madrid
BEGIN:VEVENT
UID:88@aragonsolidario.org
DTSTART;TZID=Europe/Madrid;VALUE=DATE:20230413
DTEND;TZID=Europe/Madrid;VALUE=DATE:20230430
DTSTAMP:20230419T143528Z
URL:https://aragonsolidario.org/eventos/exposicion-fotografica-cultivando-
 alternativas-en-mauritania
SUMMARY:Exposición fotográfica «Cultivando alternativas en Mauritania»
DESCRIPTION:Descubre cómo es la vida en las comunidades rurales del valle 
 del río Senegal en Mauritania\nLa exposición «Cultivando alternativas e
 n Mauritania» de Pablo Santana puede visitarse en el Centro Joaquín Ronc
 al de Zaragoza.\n\nTODA LA INFORMACIÓN AQUÍ:\n\nhttps://cerai.org/evento
 /exposicion-fotografica-cultivando-alternativas-en-mauritania/\n\nOrganiza
  CERAI
ATTACH;FMTTYPE=image/jpeg:https://aragonsolidario.org/wp-content/uploads/2
 023/04/FuAJMOyWAAIfOA_-scaled.webp
CATEGORIES:ONGD FAS
LOCATION:Centro Joaquín Roncal\, C. de San Braulio\, 5\, Zaragoza\, 50003\
 , España
GEO:41.654686;-0.879386
X-APPLE-STRUCTURED-LOCATION;VALUE=URI;X-ADDRESS=C. de San Braulio\, 5\, Zar
 agoza\, 50003\, España;X-APPLE-RADIUS=100;X-TITLE=Centro Joaquín Roncal:
 geo:41.654686,-0.879386
END:VEVENT
BEGIN:VTIMEZONE
TZID:Europe/Madrid
X-LIC-LOCATION:Europe/Madrid
BEGIN:DAYLIGHT
DTSTART:20230326T030000
TZOFFSETFROM:+0100
TZOFFSETTO:+0200
TZNAME:CEST
END:DAYLIGHT
END:VTIMEZONE
END:VCALENDAR