BEGIN:VCALENDAR
VERSION:2.0
PRODID:-//wp-events-plugin.com//7.2.3.1//EN
TZID:Europe/Madrid
X-WR-TIMEZONE:Europe/Madrid
BEGIN:VEVENT
UID:525@aragonsolidario.org
DTSTART;TZID=Europe/Madrid;VALUE=DATE:20251103
DTEND;TZID=Europe/Madrid;VALUE=DATE:20251118
DTSTAMP:20251103T122032Z
URL:https://aragonsolidario.org/eventos/exposicion-conectaods-en-daroca
SUMMARY:EXPOSICIÓN ConectaODS en Daroca
DESCRIPTION:Puedes visitar esta exposición en la Biblioteca Municipal “P
 edro Sánchez Ciruelo” de Daroca y conocer mejor la Agenda 2030 y los Ob
 jetivos de Desarrollo Sostenible (ODS) como instrumentos de cambio.\n\nMá
 s info: https://aragonsolidario.org/eventos/exposicion-conectaods-en-daroc
 a
ATTACH;FMTTYPE=image/jpeg:https://aragonsolidario.org/wp-content/uploads/2
 025/11/ConectaODS-Daroca.webp
CATEGORIES:FAS
LOCATION:Biblioteca Municipal “Pedro Sánchez Ciruelo”\, C/ Mayor\, 36\
 , Daroca\, 50360\, España
GEO:41.114384;-1.41259
X-APPLE-STRUCTURED-LOCATION;VALUE=URI;X-ADDRESS=C/ Mayor\, 36\, Daroca\, 50
 360\, España;X-APPLE-RADIUS=100;X-TITLE=Biblioteca Municipal “Pedro Sá
 nchez Ciruelo”:geo:41.114384,-1.41259
END:VEVENT
BEGIN:VTIMEZONE
TZID:Europe/Madrid
X-LIC-LOCATION:Europe/Madrid
BEGIN:STANDARD
DTSTART:20251026T020000
TZOFFSETFROM:+0200
TZOFFSETTO:+0100
TZNAME:CET
END:STANDARD
END:VTIMEZONE
END:VCALENDAR